BEGIN:VCALENDAR
VERSION:2.0
PRODID:-//ChamberMaster//Event Calendar 2.0//EN
METHOD:PUBLISH
X-PUBLISHED-TTL:P3D
REFRESH-INTERVAL:P3D
CALSCALE:GREGORIAN
BEGIN:VEVENT
DTSTART:20240213T230000Z
DTEND:20240214T003000Z
X-MICROSOFT-CDO-ALLDAYEVENT:FALSE
SUMMARY:UVYP Ice Skating Club
DESCRIPTION:UVYP Ice Skating Club\n\nJoin Upper Valley Young Professionals weekly ice skating club for some casual skating and socializing! All skill levels welcome. Free skates available to borrow at rink.\n\n\n\nTuesdays\, January 9 - March 5\, 2024\n\n6:00 - 7:30 pm\n\n \n\nJoin UVYP for Ice Skating Club every Tuesday evening at Pat Walsh Park in Lebanon. Come for some casual outdoor skating and socializing under the lights.\n\n \n\nA few notes:\n\n\n	This is a drop-in club\, so just come skate when you can. You don't have to come to every session\n\n\n\n	Bring your skates if you have them. You can also borrow a pair of skates for free from the warming hut at the park.\n	All skill levels are welcome. It's fully self-paced and just meant to be a casual hangout.\n\n\n \n\n!!! IMPORTANT !!! - Please RSVP on Eventbrite for each week you would like to attend. If we have to cancel a session because of weather\, we will send an email to everyone who signed up for that session on Eventbrite. Depending on weather and ice conditions\, we may add/remove dates in late February/early March. Keep an eye on the Eventbrite page for scheduling updates.\n\nLearn more about ice skating at Pat Walsh Park here. Interested in getting text alerts from the Parks and Recreation department about ice conditions this winter? Text "icerinks" (without quotation marks) to 38276.\n\nThe ice rinks at Pat Walsh park are a great community resource. Volunteer to help maintain it (clear fresh snow off the ice\, etc.) by emailing recreation@lebanonnh.gov.\n\nAs with all UVYP events\, you are welcome to attend whether or not you've ever been to one of our events before.\n\n---\n\nUVYP Event Financial Aid Fund: We try to plan events that are free or low-cost. We have a financial aid fund to cover event costs (for UVYP sponsored events only) for guests who need it. Learn more about the fund and apply here.\n\n \n\nAbout Us: The Upper Valley Young Professionals (UVYP) brings together young adults who are looking to meet new people socially and/or professionally. Our target audience is 20-40 year-olds living or working in the Upper Valley\, but we welcome near-peers too. Learn more at uvyp.org
X-ALT-DESC;FMTTYPE=text/html:<h1 class="event-title css-0" style="font-size: 3.25rem\; margin-top: 0px\; margin-right: 0px\; margin-bottom: calc(4*var(--base-unit))\; margin-left: 0px\; padding: 0px\; box-sizing: border-box\; color: rgb(30\, 10\, 60)\; font-weight: 800\; word-break: break-word\; line-height: 4rem\; font-family: &quot\;Neue Plak&quot\;\, -apple-system\, &quot\;system-ui&quot\;\, Roboto\, &quot\;Helvetica Neue&quot\;\, Helvetica\, Tahoma\, Arial\, sans-serif\;">UVYP Ice Skating Club</h1>\n\n<p class="summary" style="margin-top: 0px\; margin-right: 0px\; margin-bottom: calc(4*var(--base-unit))\; margin-left: 0px\; padding: 0px\; box-sizing: border-box\; word-break: break-word\; font-size: 14px\; line-height: 1.5rem\; color: rgb(57\, 54\, 79)\; font-family: &quot\;Neue Plak&quot\;\, -apple-system\, &quot\;system-ui&quot\;\, Roboto\, &quot\;Helvetica Neue&quot\;\, Helvetica\, Tahoma\, Arial\, sans-serif\;"><span style="font-weight: 600\; box-sizing: border-box\;">Join Upper Valley Young Professionals weekly ice skating club for some casual skating and socializing! All skill levels welcome. Free skates available to borrow at rink.<br />\n<br />\nTuesdays\, January 9 - March 5\, 2024<br />\n6:00 - 7:30 pm</span><br />\n&nbsp\;</p>\n\n<p style="margin: 0px\; padding: 0px\; box-sizing: border-box\; color: rgb(111\, 114\, 135)\; font-size: 16px\; line-height: 1.5rem\; font-family: &quot\;Neue Plak&quot\;\, -apple-system\, &quot\;system-ui&quot\;\, Roboto\, &quot\;Helvetica Neue&quot\;\, Helvetica\, Tahoma\, Arial\, sans-serif\;">Join UVYP for Ice Skating Club every Tuesday evening at Pat Walsh Park in Lebanon. Come for some casual outdoor skating and socializing under the lights.</p>\n\n<p style="margin: 0px\; padding: 10px 0px 0px\; box-sizing: border-box\; color: rgb(111\, 114\, 135)\; font-size: 16px\; line-height: 1.5rem\; font-family: &quot\;Neue Plak&quot\;\, -apple-system\, &quot\;system-ui&quot\;\, Roboto\, &quot\;Helvetica Neue&quot\;\, Helvetica\, Tahoma\, Arial\, sans-serif\;">&nbsp\;</p>\n\n<p style="margin: 0px\; padding: 10px 0px 0px\; box-sizing: border-box\; color: rgb(111\, 114\, 135)\; font-size: 16px\; line-height: 1.5rem\; font-family: &quot\;Neue Plak&quot\;\, -apple-system\, &quot\;system-ui&quot\;\, Roboto\, &quot\;Helvetica Neue&quot\;\, Helvetica\, Tahoma\, Arial\, sans-serif\;">A few notes:</p>\n\n<ul style="margin: 0px\; padding-top: 10px\; padding-right: 0px\; padding-left: 2em\; list-style-position: initial\; list-style-image: initial\; box-sizing: border-box\; color: rgb(111\, 114\, 135)\; font-size: 16px\; line-height: 1.5rem\; font-family: &quot\;Neue Plak&quot\;\, -apple-system\, &quot\;system-ui&quot\;\, Roboto\, &quot\;Helvetica Neue&quot\;\, Helvetica\, Tahoma\, Arial\, sans-serif\;">\n	<li style="margin: 0px\; padding: 0px\; box-sizing: border-box\;">This is a drop-in club\, so just come skate when you can.&nbsp\;<span style="font-weight: 700\; box-sizing: border-box\; padding-top: 0px\;">You don&#39\;t have to come to every session</span></li>\n</ul>\n\n<ul style="margin: 0px\; padding-top: 10px\; padding-right: 0px\; padding-left: 2em\; list-style-position: initial\; list-style-image: initial\; box-sizing: border-box\; color: rgb(111\, 114\, 135)\; font-size: 16px\; line-height: 1.5rem\; font-family: &quot\;Neue Plak&quot\;\, -apple-system\, &quot\;system-ui&quot\;\, Roboto\, &quot\;Helvetica Neue&quot\;\, Helvetica\, Tahoma\, Arial\, sans-serif\;">\n	<li style="margin: 0px\; padding: 0px\; box-sizing: border-box\;"><span style="font-weight: 700\; box-sizing: border-box\; padding-top: 0px\;">Bring your skates if you have them</span>. You can also&nbsp\;<span style="font-weight: 700\; box-sizing: border-box\;">borrow a pair of skates for free</span>&nbsp\;from the warming hut at the park.</li>\n	<li style="margin: 0px\; padding: 5px 0px 0px\; box-sizing: border-box\;"><span style="font-weight: 700\; box-sizing: border-box\; padding-top: 0px\;">All skill levels are welcome.</span>&nbsp\;It&#39\;s fully self-paced and just meant to be a casual hangout.</li>\n</ul>\n\n<p style="margin: 0px\; padding: 10px 0px 0px\; box-sizing: border-box\; color: rgb(111\, 114\, 135)\; font-size: 16px\; line-height: 1.5rem\; font-family: &quot\;Neue Plak&quot\;\, -apple-system\, &quot\;system-ui&quot\;\, Roboto\, &quot\;Helvetica Neue&quot\;\, Helvetica\, Tahoma\, Arial\, sans-serif\;">&nbsp\;</p>\n\n<p style="margin: 0px\; padding: 10px 0px 0px\; box-sizing: border-box\; color: rgb(111\, 114\, 135)\; font-size: 16px\; line-height: 1.5rem\; font-family: &quot\;Neue Plak&quot\;\, -apple-system\, &quot\;system-ui&quot\;\, Roboto\, &quot\;Helvetica Neue&quot\;\, Helvetica\, Tahoma\, Arial\, sans-serif\;"><span style="font-weight: 700\; box-sizing: border-box\; padding-top: 0px\;">!!! IMPORTANT !!! -&nbsp\;</span>Please RSVP on Eventbrite for each week you would like to attend.&nbsp\;<em style="box-sizing: border-box\;"><span style="font-weight: 700\; box-sizing: border-box\; padding-top: 0px\;">If we have to cancel a session because of weather\, we will send an email to everyone who signed up for that session on Eventbrite.</span></em><span style="font-weight: 700\; box-sizing: border-box\;">&nbsp\;</span>Depending on weather and ice conditions\, we may add/remove dates in late February/early March. Keep an eye on the Eventbrite page for scheduling updates.</p>\n\n<p style="margin: 0px\; padding: 10px 0px 0px\; box-sizing: border-box\; color: rgb(111\, 114\, 135)\; font-size: 16px\; line-height: 1.5rem\; font-family: &quot\;Neue Plak&quot\;\, -apple-system\, &quot\;system-ui&quot\;\, Roboto\, &quot\;Helvetica Neue&quot\;\, Helvetica\, Tahoma\, Arial\, sans-serif\;">Learn more about ice skating at Pat Walsh Park&nbsp\;<a href="https://lebanonnh.gov/Facilities/Facility/Details/Pat-Walsh-Park-Garden-Ice-Rinks-8" rel="nofollow noopener noreferrer" style="background-color: transparent\; text-decoration-line: none\; color: rgb(54\, 89\, 227)\; cursor: pointer\; box-sizing: border-box\; padding-top: 0px\;" target="_blank" title="https://lebanonnh.gov/Facilities/Facility/Details/Pat-Walsh-Park-Garden-Ice-Rinks-8">here</a>. Interested in getting text alerts from the Parks and Recreation department about ice conditions this winter? Text &quot\;icerinks&quot\; (without quotation marks) to 38276.</p>\n\n<p style="margin: 0px\; padding: 10px 0px 0px\; box-sizing: border-box\; color: rgb(111\, 114\, 135)\; font-size: 16px\; line-height: 1.5rem\; font-family: &quot\;Neue Plak&quot\;\, -apple-system\, &quot\;system-ui&quot\;\, Roboto\, &quot\;Helvetica Neue&quot\;\, Helvetica\, Tahoma\, Arial\, sans-serif\;">The ice rinks at Pat Walsh park are a great community resource. Volunteer to help maintain it (clear fresh snow off the ice\, etc.) by emailing recreation@lebanonnh.gov.</p>\n\n<p style="margin: 0px\; padding: 10px 0px 0px\; box-sizing: border-box\; color: rgb(111\, 114\, 135)\; font-size: 16px\; line-height: 1.5rem\; font-family: &quot\;Neue Plak&quot\;\, -apple-system\, &quot\;system-ui&quot\;\, Roboto\, &quot\;Helvetica Neue&quot\;\, Helvetica\, Tahoma\, Arial\, sans-serif\;">As with all UVYP events\, you are welcome to attend whether or not you&rsquo\;ve ever been to one of our events before.</p>\n\n<p style="margin: 0px\; padding: 10px 0px 0px\; box-sizing: border-box\; color: rgb(111\, 114\, 135)\; font-size: 16px\; line-height: 1.5rem\; font-family: &quot\;Neue Plak&quot\;\, -apple-system\, &quot\;system-ui&quot\;\, Roboto\, &quot\;Helvetica Neue&quot\;\, Helvetica\, Tahoma\, Arial\, sans-serif\;">---</p>\n\n<p style="margin: 0px\; padding: 10px 0px 0px\; box-sizing: border-box\; color: rgb(111\, 114\, 135)\; font-size: 16px\; line-height: 1.5rem\; font-family: &quot\;Neue Plak&quot\;\, -apple-system\, &quot\;system-ui&quot\;\, Roboto\, &quot\;Helvetica Neue&quot\;\, Helvetica\, Tahoma\, Arial\, sans-serif\;">UVYP Event Financial Aid Fund: We try to plan events that are free or low-cost. We have a financial aid fund to cover event costs (for UVYP sponsored events only) for guests who need it. Learn more about the fund and apply&nbsp\;<a href="https://forms.gle/UMDeSQbMkXo1Csew9" rel="nofollow noopener noreferrer" style="background-color: transparent\; text-decoration-line: none\; color: rgb(54\, 89\, 227)\; cursor: pointer\; box-sizing: border-box\; padding-top: 0px\;" target="_blank" title="https://forms.gle/UMDeSQbMkXo1Csew9">here</a>.</p>\n\n<p style="margin: 0px\; padding: 10px 0px 0px\; box-sizing: border-box\; color: rgb(111\, 114\, 135)\; font-size: 16px\; line-height: 1.5rem\; font-family: &quot\;Neue Plak&quot\;\, -apple-system\, &quot\;system-ui&quot\;\, Roboto\, &quot\;Helvetica Neue&quot\;\, Helvetica\, Tahoma\, Arial\, sans-serif\;">&nbsp\;</p>\n\n<p style="margin: 0px\; padding: 10px 0px 0px\; box-sizing: border-box\; color: rgb(111\, 114\, 135)\; font-size: 16px\; line-height: 1.5rem\; font-family: &quot\;Neue Plak&quot\;\, -apple-system\, &quot\;system-ui&quot\;\, Roboto\, &quot\;Helvetica Neue&quot\;\, Helvetica\, Tahoma\, Arial\, sans-serif\;">About Us: The Upper Valley Young Professionals (UVYP) brings together young adults who are looking to meet new people socially and/or professionally. Our target audience is 20-40 year-olds living or working in the Upper Valley\, but we welcome near-peers too. Learn more at&nbsp\;<a href="https://uvyp.org/" rel="nofollow noopener noreferrer" style="background-color: transparent\; text-decoration-line: none\; color: rgb(54\, 89\, 227)\; cursor: pointer\; box-sizing: border-box\; padding-top: 0px\;" target="_blank" title="https://uvyp.org/">uvyp.org</a></p>\n
LOCATION:Pat Walsh Park Bank Street Extension Lebanon\, NH 03766
UID:e.3068.31321
SEQUENCE:3
DTSTAMP:20260419T140209Z
URL:https://visittheuppervalley.uppervalleybusinessalliance.com/events/details/uvyp-ice-skating-club-02-13-2024-31321
END:VEVENT

END:VCALENDAR
