BEGIN:VCALENDAR
VERSION:2.0
PRODID:-//ChamberMaster//Event Calendar 2.0//EN
METHOD:PUBLISH
X-PUBLISHED-TTL:P3D
REFRESH-INTERVAL:P3D
CALSCALE:GREGORIAN
BEGIN:VEVENT
DTSTART:20260416T210000Z
DTEND:20260416T230000Z
X-MICROSOFT-CDO-ALLDAYEVENT:FALSE
SUMMARY:UVBA Business After Hours hosted by Ivy IV Aesthetics
DESCRIPTION:Join the Upper Valley Business Alliance and Ivy IV Aesthetics for a Business After Hours to mix and mingle with fellow businesses and community members in the Upper Valley!
X-ALT-DESC;FMTTYPE=text/html:Join the Upper Valley Business Alliance and Ivy IV Aesthetics for a Business After Hours to mix and mingle with fellow businesses and community members in the Upper Valley!
LOCATION:Ivy IV Aesthetics 5 Allen Street Hanover\, NH 03755
UID:e.3068.38316
SEQUENCE:3
DTSTAMP:20260420T002321Z
URL:https://visittheuppervalley.uppervalleybusinessalliance.com/events/details/uvba-business-after-hours-hosted-by-ivy-iv-aesthetics-38316
END:VEVENT

END:VCALENDAR
