BEGIN:VCALENDAR
VERSION:2.0
PRODID:-//ChamberMaster//Event Calendar 2.0//EN
METHOD:PUBLISH
X-PUBLISHED-TTL:P3D
REFRESH-INTERVAL:P3D
CALSCALE:GREGORIAN
BEGIN:VEVENT
DTSTART:20260715T200000Z
DTEND:20260715T220000Z
X-MICROSOFT-CDO-ALLDAYEVENT:FALSE
SUMMARY:UVBA Business After Hours at COVER
DESCRIPTION:Get ready to mix & mingle at a Parking Lot Party hosted by Cover & HP Roofing at UVBA's Business After Hours!
X-ALT-DESC;FMTTYPE=text/html:Get ready to mix &amp\; mingle at a Parking Lot Party hosted by Cover &amp\; HP Roofing at UVBA&#39\;s Business After Hours!
LOCATION:Cover Home Repair & Store 158 S Main Street White River Junction\, VT 05001
UID:e.3068.38733
SEQUENCE:3
DTSTAMP:20260425T171226Z
URL:https://visittheuppervalley.uppervalleybusinessalliance.com/events/details/uvba-business-after-hours-at-cover-38733
END:VEVENT

END:VCALENDAR
