BEGIN:VCALENDAR
VERSION:2.0
PRODID:-//ChamberMaster//Event Calendar 2.0//EN
METHOD:PUBLISH
X-PUBLISHED-TTL:P3D
REFRESH-INTERVAL:P3D
CALSCALE:GREGORIAN
BEGIN:VEVENT
DTSTART:20260609T223000Z
DTEND:20260610T000000Z
X-MICROSOFT-CDO-ALLDAYEVENT:FALSE
SUMMARY:Upper Valley Women in Business
DESCRIPTION:The Upper Valley Women in Business group is a welcoming community for local women entrepreneurs\, professionals\, and creatives to connect\, collaborate\, and inspire one another. Whether you're running your own business\, building your career\, or exploring new opportunities\, this group is here to share resources\, ideas\, and support. Our meetups and online space are all about encouragement\, networking\, and growth   because when women come together\, amazing things happen.
X-ALT-DESC;FMTTYPE=text/html:The Upper Valley Women in Business group is a welcoming community for local women entrepreneurs\, professionals\, and creatives to connect\, collaborate\, and inspire one another. Whether you&rsquo\;re running your own business\, building your career\, or exploring new opportunities\, this group is here to share resources\, ideas\, and support. Our meetups and online space are all about encouragement\, networking\, and growth &mdash\; because when women come together\, amazing things happen.
LOCATION:SILO Distillery
UID:e.3068.38730
SEQUENCE:3
DTSTAMP:20260425T153803Z
URL:https://visittheuppervalley.uppervalleybusinessalliance.com/events/details/upper-valley-women-in-business-06-09-2026-38730
END:VEVENT

END:VCALENDAR
