BEGIN:VCALENDAR
VERSION:2.0
PRODID:-//ChamberMaster//Event Calendar 2.0//EN
METHOD:PUBLISH
X-PUBLISHED-TTL:P3D
REFRESH-INTERVAL:P3D
CALSCALE:GREGORIAN
BEGIN:VEVENT
DTSTART:20180922T140000Z
DTEND:20180922T190000Z
X-MICROSOFT-CDO-ALLDAYEVENT:FALSE
SUMMARY:Upper Valley Health & Wellness Fair!
DESCRIPTION:An interactive health & wellness fair for  the community. Health providers will be required to provide an activity   a free screening\, flu shot\, educational activity\, or giveaway. The event will be for all ages. Besides health provider booths\, the fair will include an area for various demonstrations and entertainment including exercise 'get moving' demos and mini   talks on health-related topics.
X-ALT-DESC;FMTTYPE=text/html:<span style="language:en-US\;"><span style="font-family:calibri\;"><span style="font-size:11.0pt\;">An interactive health &amp\; wellness fair for&nbsp\; the community. Health providers will be required to provide an activity &ndash\; a free screening\, flu shot\, educational activity\, or giveaway. The event will be for all ages. Besides health provider booths\, the fair will include an area for various demonstrations and entertainment including exercise &lsquo\;get moving&rsquo\; demos and mini &ndash\; talks on health-related topics.</span></span></span><br />\n&nbsp\;
LOCATION:Hilton Garden Inn 35 N Labombard Rd Lebanon NH 03766
UID:e.3068.4442
SEQUENCE:3
DTSTAMP:20260419T154342Z
URL:https://visittheuppervalley.uppervalleybusinessalliance.com/events/details/upper-valley-health-wellness-fair-4442
END:VEVENT

END:VCALENDAR
