BEGIN:VCALENDAR
VERSION:2.0
PRODID:-//ChamberMaster//Event Calendar 2.0//EN
METHOD:PUBLISH
X-PUBLISHED-TTL:P3D
REFRESH-INTERVAL:P3D
CALSCALE:GREGORIAN
BEGIN:VEVENT
DTSTART:20250201T173000Z
DTEND:20250201T193000Z
X-MICROSOFT-CDO-ALLDAYEVENT:FALSE
SUMMARY:Tommy Mesa Masterclass and Performance
DESCRIPTION:Upper Valley Music Center welcomes Cuban-American cellist Tommy Mesa for a special event blending education and performance. The recipient of the Sphinx Organization's 2023 Medal of Excellence\, Mesa has appeared as soloist at the Supreme Court of the United States and with major orchestras including the Los Angeles Philharmonic at the Hollywood Bowl\, The Cleveland Orchestra\, The Philadelphia Orchestra\, and the symphony orchestras of Indianapolis\, Madison\, New Jersey\, San Antonio\, and Santa Barbara\, among others. \n\nThe event will begin with a masterclass featuring UVMC cello students performing and Mesa coaching students on interpretation and technique. Mesa will present a short concert\, and then sit down for a conversation about his multifaceted career as a performer\, recording artist\, and educator. \n\n\n\nThis event is presented as part of Upper Valley Music Center's 30th anniversary celebration\, and offered with flexible admission pricing so that all students and community members have the opportunity to observe instruction from a master teacher and performer.
X-ALT-DESC;FMTTYPE=text/html:<div>\n<p>Upper Valley Music Center welcomes Cuban-American cellist&nbsp\;<a href="https://tommymesa.com/" style="margin: 0px\; padding: 0px\; border: 0px\; color: rgb(17\, 154\, 175)\; text-decoration-line: none\; font-weight: 800\; transition: var(--tec-transition-color)\;">Tommy Mesa</a>&nbsp\;for a special event blending education and performance. The recipient of the Sphinx Organization&rsquo\;s 2023 Medal of Excellence\, Mesa has appeared as soloist at the Supreme Court of the United States and with major orchestras including the Los Angeles Philharmonic at the Hollywood Bowl\, The Cleveland Orchestra\, The Philadelphia Orchestra\, and the symphony orchestras of Indianapolis\, Madison\, New Jersey\, San Antonio\, and Santa Barbara\, among others.&nbsp\;</p>\n\n<p>The event will begin with a masterclass featuring UVMC cello students performing and Mesa coaching students on interpretation and technique. Mesa will present a short concert\, and then sit down for a conversation about his multifaceted career as a performer\, recording artist\, and educator.&nbsp\;</p>\n</div>\n\n<div>\n<div>This event is presented as part of Upper Valley Music Center&rsquo\;s 30th anniversary celebration\, and offered with flexible admission pricing so that all students and community members have the opportunity to observe instruction from a master teacher and performer.&nbsp\;</div>\n\n<div>&nbsp\;</div>\n</div>\n
LOCATION:First Congregational Church of Lebanon 10 South Park Street Lebanon\, NH 03766
UID:e.3068.36171
SEQUENCE:3
DTSTAMP:20260420T201434Z
URL:https://visittheuppervalley.uppervalleybusinessalliance.com/events/details/tommy-mesa-masterclass-and-performance-36171
END:VEVENT

END:VCALENDAR
