BEGIN:VCALENDAR
VERSION:2.0
PRODID:-//ChamberMaster//Event Calendar 2.0//EN
METHOD:PUBLISH
X-PUBLISHED-TTL:P3D
REFRESH-INTERVAL:P3D
CALSCALE:GREGORIAN
BEGIN:VEVENT
DTSTART:20231121T200000Z
DTEND:20231121T213000Z
X-MICROSOFT-CDO-ALLDAYEVENT:FALSE
SUMMARY:Thetford Grief and Loss Support Group
DESCRIPTION:The Chaplaincy Team at Visiting Nurse and Hospice for VT and NH (VNH) hosts free weekly Grief and Loss Support Groups for anyone who may need support. All are welcome to walk in and attend one or more each week. Groups last approximately 90 minutes\, locations and meeting times are below:\n\n\n\nTuesdays\, 3:00 PM   Thetford Center Community Association\, 3923 Rte. 113 Thetford Center\, VT (white building across from Town Offices). Weather permitting\, this group will meet outside.\n\n\n\nFor more information about these groups and other bereavement/grief support services please call (888) 300   8853 ext. 743\, or email us at VNH_HOSBereavement@vnhcare.org.
X-ALT-DESC;FMTTYPE=text/html:<span style="color: rgb(66\, 66\, 66)\; font-family: &quot\;Segoe UI&quot\;\, &quot\;Segoe UI Web (West European)&quot\;\, &quot\;Segoe UI&quot\;\, -apple-system\, &quot\;system-ui&quot\;\, Roboto\, &quot\;Helvetica Neue&quot\;\, sans-serif\; font-size: 15px\;">The Chaplaincy Team at Visiting Nurse and Hospice for VT and NH (VNH) hosts free weekly Grief and Loss Support Groups for anyone who may need support. All are welcome to walk in and attend one or more each week. Groups last approximately 90 minutes\, locations and meeting times are below:</span><br aria-hidden="true" style="color: rgb(66\, 66\, 66)\; font-family: &quot\;Segoe UI&quot\;\, &quot\;Segoe UI Web (West European)&quot\;\, &quot\;Segoe UI&quot\;\, -apple-system\, &quot\;system-ui&quot\;\, Roboto\, &quot\;Helvetica Neue&quot\;\, sans-serif\; font-size: 15px\;" />\n<br aria-hidden="true" style="color: rgb(66\, 66\, 66)\; font-family: &quot\;Segoe UI&quot\;\, &quot\;Segoe UI Web (West European)&quot\;\, &quot\;Segoe UI&quot\;\, -apple-system\, &quot\;system-ui&quot\;\, Roboto\, &quot\;Helvetica Neue&quot\;\, sans-serif\; font-size: 15px\;" />\n<span style="color: rgb(66\, 66\, 66)\; font-family: &quot\;Segoe UI&quot\;\, &quot\;Segoe UI Web (West European)&quot\;\, &quot\;Segoe UI&quot\;\, -apple-system\, &quot\;system-ui&quot\;\, Roboto\, &quot\;Helvetica Neue&quot\;\, sans-serif\; font-size: 15px\;">Tuesdays\, 3:00 PM &ndash\; Thetford Center Community Association\, 3923 Rte. 113 Thetford Center\, VT (white building across from Town Offices). Weather permitting\, this group will meet outside.<br />\n<br />\nFor more information about these groups and other bereavement/grief support services please call (888) 300 &ndash\; 8853 ext. 743\, or email us at&nbsp\;</span><a data-linkindex="0" href="mailto:VNH_HOSBereavement@vnhcare.org." style="border: 0px\; font-variant-numeric: inherit\; font-variant-east-asian: inherit\; font-variant-alternates: inherit\; font-stretch: inherit\; font-size: 15px\; line-height: inherit\; font-family: &quot\;Segoe UI&quot\;\, &quot\;Segoe UI Web (West European)&quot\;\, &quot\;Segoe UI&quot\;\, -apple-system\, &quot\;system-ui&quot\;\, Roboto\, &quot\;Helvetica Neue&quot\;\, sans-serif\; font-optical-sizing: inherit\; font-kerning: inherit\; font-feature-settings: inherit\; font-variation-settings: inherit\; margin: 0px\; padding: 0px\; vertical-align: baseline\;">VNH_HOSBereavement@vnhcare.org.</a>
LOCATION:Thetford Center Community Association 3923 Rte. 113 Thetford Center\, VT
UID:e.3068.24917
SEQUENCE:3
DTSTAMP:20260423T214602Z
URL:https://visittheuppervalley.uppervalleybusinessalliance.com/events/details/thetford-grief-and-loss-support-group-11-21-2023-24917
END:VEVENT

END:VCALENDAR
