BEGIN:VCALENDAR
VERSION:2.0
PRODID:-//ChamberMaster//Event Calendar 2.0//EN
METHOD:PUBLISH
X-PUBLISHED-TTL:P3D
REFRESH-INTERVAL:P3D
CALSCALE:GREGORIAN
BEGIN:VEVENT
DTSTART:20260430T233000Z
DTEND:20260517T190000Z
X-MICROSOFT-CDO-ALLDAYEVENT:FALSE
SUMMARY:The Spitfire Grill — We the People Theatre
DESCRIPTION:A musical by James Valcq and Fred Alley about renewal and community in a rural town. Directed by Richard Waterhouse. We the People Theatre's first production at the historic venue.
X-ALT-DESC;FMTTYPE=text/html:A musical by James Valcq and Fred Alley about renewal and community in a rural town. Directed by Richard Waterhouse. We the People Theatre&rsquo\;s first production at the historic venue.
LOCATION:Eclipse Grange Theatre\, 93 Academy Rd\, PO Box 136\, Thetford\, VT 05074
UID:e.3068.38404
SEQUENCE:3
DTSTAMP:20260425T122707Z
URL:https://visittheuppervalley.uppervalleybusinessalliance.com/events/details/the-spitfire-grill-we-the-people-theatre-38404
END:VEVENT

END:VCALENDAR
