BEGIN:VCALENDAR
VERSION:2.0
PRODID:-//ChamberMaster//Event Calendar 2.0//EN
METHOD:PUBLISH
X-PUBLISHED-TTL:P3D
REFRESH-INTERVAL:P3D
CALSCALE:GREGORIAN
BEGIN:VEVENT
DTSTART;VALUE=DATE:20260525
DTEND;VALUE=DATE:20260526
TRANSP:TRANSPARENT
X-MICROSOFT-CDO-ALLDAYEVENT:TRUE
SUMMARY:The 2026 Murph Challenge
DESCRIPTION:Honor. Remember. Push your limits. Join us this Memorial Day for the Murph Challenge as we come together to honor LT. Michael P. Murphy and all who have sacrificed for our freedom. Choose your challenge\, full\, half\, or quarter Murph with modifications encouraged so everyone can participate. New this year: Murph Jr. for ages 5 15! Warm-up begins at 7:45 AM\, workout starts at 8:00 AM\, 9:00am Jr start. Take it at your own pace and complete it alongside your favorite UVAC staff. Challenge includes: 1-mile run\, 300 squats\, 200 pushups\, 100 pullups\, 1-mile run. Register at the Welcome Desk to reserve your spot. $10 donation benefits the White River Junction VA Medical Center.
X-ALT-DESC;FMTTYPE=text/html:<p><span style="background-color:transparent\; color:rgb(0\, 0\, 0)\; font-family:arial\,sans-serif\; font-size:11pt">Honor. Remember. Push your limits. Join us this Memorial Day for the Murph Challenge as we come together to honor LT. Michael P. Murphy and all who have sacrificed for our freedom. Choose your challenge\, full\, half\, or quarter Murph with modifications encouraged so everyone can participate. New this year: Murph Jr. for ages 5&ndash\;15! Warm-up begins at 7:45 AM\, workout starts at 8:00 AM\, 9:00am Jr start. Take it at your own pace and complete it alongside your favorite UVAC staff. Challenge includes: 1-mile run\, 300 squats\, 200 pushups\, 100 pullups\, 1-mile run. Register at the Welcome Desk to reserve your spot. $10 donation benefits the White River Junction VA Medical Center.</span></p>\n\n<div>&nbsp\;</div>\n
LOCATION:100 Arboretum Ln\, White River Junction\, VT 05001
UID:e.3068.38700
SEQUENCE:3
DTSTAMP:20260420T015729Z
URL:https://visittheuppervalley.uppervalleybusinessalliance.com/events/details/the-2026-murph-challenge-38700
END:VEVENT

END:VCALENDAR
