BEGIN:VCALENDAR
VERSION:2.0
PRODID:-//ChamberMaster//Event Calendar 2.0//EN
METHOD:PUBLISH
X-PUBLISHED-TTL:P3D
REFRESH-INTERVAL:P3D
CALSCALE:GREGORIAN
BEGIN:VEVENT
DTSTART:20260628T180000Z
DTEND:20260628T193000Z
X-MICROSOFT-CDO-ALLDAYEVENT:FALSE
SUMMARY:Technique Tune Up: Singing
DESCRIPTION:In Technique Tune Up workshops\, UVMC faculty review the fundamentals of technique for playing or singing\, so that you can build confidence and refresh your memory. These workshops are especially for musicians who studied or played at an earlier part of their lives\, but need a refresher to prepare for joining an ensemble or making practice a regular habit again. Technique Tune Up workshops are free and open to the community\, with pre-registration required. \n\nThis Singing workshop will be led by Jennifer Pomeroy\, a member of UVMC's voice faculty. The workshop will include discussion and practical application of breathing techniques\, exploration of resonance and how to make sounds with different qualities\, shaping sound using embouchure\, and diction. Participants will warm up as a group\, integrating the techniques that have been discussed\, and then sing together as a group\, exploring simple and accessible repertoire and practice applying the basics to a song.
X-ALT-DESC;FMTTYPE=text/html:<p>In Technique Tune Up workshops\, UVMC faculty review the fundamentals of technique for playing or singing\, so that you can build confidence and refresh your memory. These workshops are especially for musicians who studied or played at an earlier part of their lives\, but need a refresher to prepare for joining an ensemble or making practice a regular habit again. Technique Tune Up workshops are free and open to the community\, with pre-registration required.&nbsp\;</p>\n\n<p>This Singing workshop will be led by Jennifer Pomeroy\, a member of UVMC&rsquo\;s voice faculty. The workshop will include discussion and practical application of breathing techniques\, exploration of resonance and how to make sounds with different qualities\, shaping sound using embouchure\, and diction. Participants will warm up as a group\, integrating the techniques that have been discussed\, and then sing together as a group\, exploring simple and accessible repertoire and practice applying the basics to a song.</p>\n
LOCATION:Upper Valley Music Center 8 South Park Street Lebanon\, NH 03766
UID:e.3068.38298
SEQUENCE:3
DTSTAMP:20260419T224428Z
URL:https://visittheuppervalley.uppervalleybusinessalliance.com/events/details/technique-tune-up-singing-38298
END:VEVENT

END:VCALENDAR
