BEGIN:VCALENDAR
VERSION:2.0
PRODID:-//ChamberMaster//Event Calendar 2.0//EN
METHOD:PUBLISH
X-PUBLISHED-TTL:P3D
REFRESH-INTERVAL:P3D
CALSCALE:GREGORIAN
BEGIN:VEVENT
DTSTART:20260811T180000Z
DTEND:20260811T223000Z
X-MICROSOFT-CDO-ALLDAYEVENT:FALSE
SUMMARY:Taste the Authentic Flavors of India with Taste of Punjab
DESCRIPTION:The first Punjabi food trailer in the Upper Valley\, family-owned Taste of Punjab specializes in authentic North Indian food. From Samosas to Tikka Masala and Paneer Pakora to Dal Makhani\, experience the authentic flavors of India with takeout from Taste of Punjab at Sweetland!
X-ALT-DESC;FMTTYPE=text/html:<span style="color:rgb(0\, 0\, 0)\; font-family:rubik\,sans-serif\; font-size:17px">The first Punjabi food trailer in the Upper Valley\, family-owned Taste of Punjab specializes in authentic North Indian food. From Samosas to Tikka Masala and Paneer Pakora to Dal Makhani\, experience the authentic flavors of India with takeout from Taste of Punjab at Sweetland!</span>
LOCATION:Sweetland Farm
UID:e.3068.38367
SEQUENCE:3
DTSTAMP:20260420T101030Z
URL:https://visittheuppervalley.uppervalleybusinessalliance.com/events/details/taste-the-authentic-flavors-of-india-with-taste-of-punjab-08-11-2026-38367
END:VEVENT

END:VCALENDAR
