BEGIN:VCALENDAR
VERSION:2.0
PRODID:-//ChamberMaster//Event Calendar 2.0//EN
METHOD:PUBLISH
X-PUBLISHED-TTL:P3D
REFRESH-INTERVAL:P3D
CALSCALE:GREGORIAN
BEGIN:VEVENT
DTSTART;VALUE=DATE:20250310
DTEND;VALUE=DATE:20250316
TRANSP:TRANSPARENT
X-MICROSOFT-CDO-ALLDAYEVENT:TRUE
SUMMARY:Take Your Fitness Journey To The Next Level with TRIBE Team Training at UVAC
DESCRIPTION:Experience the power of community-driven workouts that will push you to your limits and beyond. Our expert trainers will guide you every step of the way\, ensuring that you reach your goals and unleash your full potential.\n\nJoin our incredible TRIBE Team Training program! Season 2 starts March 10. \n\nNew To TRIBE? Try Your First Session For FREE during the first week*!\n\nTribe CORE brings toning\, strength\, stability and power to your core. With an initial emphasis on deep core muscles\, sculpt a sleek waistline but also forges a sturdy core radiating strength and stability.\n\n\n	Meets 2x week / 8 weeks\n	Monday & Wednesday 8:30 am\n	Member Price: $320 | Non-Member Price: $480\n	Learn more at uvacswim.org/fitness/tribe-team-training/tribecore/\n\n\nTribe LIFE is our low impact functional exercise workout that gets you fit for life. Blending low-impact aerobic movements\, functional strength exercises\, and comprehensive core and flexibility training.\n\n\n	Meets 2x week / 8 weeks\n	Choose one: Monday & Wednesday 4:00pm\, Tuesday & Thursday 6:00am\, or Tuesday & Thursday 8:00am\n	Member Price: $320 | Non-Member Price: $480\n	Learn more at uvacswim.org/fitness/tribeteamtraining/tribelife/\n\n\nTribe FIT is the high-intensity functional fitness workout designed to make you fitter\, faster and stronger.\n\n\n	Meets 2x week / 8 weeks\n	Monday & Wednesday 5:00 pm \n	Member Price: $320 | Non-Member Price: $480\n	Learn more at uvacswim.org/fitness/tribe-team-training/tribefit/\n\n\nTribe KIDS is our fun youth fitness class that builds fit\, healthy and confident kids. Workouts incorporate athletic drills for coordination and agility\, strength and stamina exercises.\n\n\n	Meets 1x week / 8 weeks\n	Choose one: Tuesday 3:30 pm\, Thursday 3:30 pm or Saturday 8:00 am\n	Member Price: $140 | Non-Member Price: $184\n	Learn more at uvacswim.org/fitness/tribe-team-training/tribekids/\n\n\nSign up today at our front desk! \n\nQuestions? Email our TRIBE Head Coach at ebuck@uvacswim.org! \n\n(*First week free to new TRIBE participants only. Non-members will need to sign an activity waiver.)\n\nUpper Valley Aquatic Center | 100 Arboretum Lane | White River Jct.\, VT | uvaswim.org | 802-296-2850
X-ALT-DESC;FMTTYPE=text/html:<p>Experience the power of community-driven workouts that will push you to your limits and beyond. Our expert trainers will guide you every step of the way\, ensuring that you reach your goals and unleash your full potential.</p>\n\n<h2>Join our incredible TRIBE Team Training program! Season 2 starts March 10.&nbsp\;</h2>\n\n<p><strong><em>New To TRIBE? Try Your First Session For FREE during the first week*!</em></strong></p>\n\n<p><strong>Tribe CORE&nbsp\;</strong>brings toning\, strength\, stability and power to your core. With an initial emphasis on deep core muscles\, sculpt a sleek waistline but also forges a sturdy core radiating strength and stability.</p>\n\n<ul>\n	<li><strong>Meets 2x week / 8 weeks</strong></li>\n	<li>Monday &amp\; Wednesday 8:30 am</li>\n	<li><strong>Member Price:</strong>&nbsp\;$320 |&nbsp\;<strong>Non-Member Price:</strong>&nbsp\;$480</li>\n	<li><span style="color:rgb(26\, 26\, 26)">Learn more at&nbsp\;<a href="https://uvacswim.org/fitness/tribe-team-training/tribecore/"><span style="color:rgb(16\, 60\, 192)">uvacswim.org/fitness/tribe-team-training/tribecore/</span></a></span></li>\n</ul>\n\n<p><strong>Tribe LIFE</strong>&nbsp\;is our low impact functional exercise workout that gets you fit for life. Blending low-impact aerobic movements\, functional strength exercises\, and comprehensive core and flexibility training.</p>\n\n<ul>\n	<li><strong>Meets 2x week / 8 weeks</strong></li>\n	<li><strong>Choose one:&nbsp\;</strong>Monday &amp\; Wednesday 4:00pm\, Tuesday &amp\; Thursday 6:00am\, or Tuesday &amp\; Thursday&nbsp\;8:00am</li>\n	<li><strong>Member Price:</strong>&nbsp\;$320 |&nbsp\;<strong>Non-Member Price:</strong>&nbsp\;$480</li>\n	<li><span style="color:rgb(26\, 26\, 26)">Learn more at&nbsp\;<a href="https://uvacswim.org/fitness/tribeteamtraining/tribelife/"><span style="color:rgb(16\, 60\, 192)">uvacswim.org/fitness/tribeteamtraining/tribelife/</span></a></span></li>\n</ul>\n\n<p><strong>Tribe FIT</strong>&nbsp\;is the high-intensity functional fitness workout designed to make you fitter\, faster and stronger.</p>\n\n<ul>\n	<li><strong>Meets 2x week / 8 weeks</strong></li>\n	<li>Monday &amp\; Wednesday 5:00 pm&nbsp\;</li>\n	<li><strong>Member Price:</strong>&nbsp\;$320 |&nbsp\;<strong>Non-Member Price:</strong>&nbsp\;$480</li>\n	<li><span style="color:rgb(26\, 26\, 26)">Learn more at&nbsp\;<a href="https://uvacswim.org/fitness/tribe-team-training/tribefit/"><span style="color:rgb(16\, 60\, 192)">uvacswim.org/fitness/tribe-team-training/tribefit/</span></a></span></li>\n</ul>\n\n<p><strong>Tribe KIDS</strong>&nbsp\;is our fun youth fitness class that builds fit\, healthy and confident kids. Workouts incorporate athletic drills for coordination and agility\, strength and stamina exercises.</p>\n\n<ul>\n	<li><strong>Meets 1x week / 8 weeks</strong></li>\n	<li><strong>Choose one:</strong>&nbsp\;Tuesday 3:30 pm\, Thursday 3:30 pm or Saturday 8:00 am</li>\n	<li><strong>Member Price:</strong>&nbsp\;$140 |&nbsp\;<strong>Non-Member Price:</strong>&nbsp\;$184</li>\n	<li><span style="color:rgb(26\, 26\, 26)">Learn more at&nbsp\;<a href="https://uvacswim.org/fitness/tribe-team-training/tribekids/"><span style="color:rgb(16\, 60\, 192)">uvacswim.org/fitness/tribe-team-training/tribekids/</span></a></span></li>\n</ul>\n\n<p>Sign up today at our front desk!&nbsp\;</p>\n\n<p>Questions? Email our TRIBE Head Coach at ebuck@uvacswim.org!&nbsp\;</p>\n\n<p>(*First week free to new TRIBE participants only. Non-members will need to sign an activity waiver.)</p>\n\n<p>Upper Valley Aquatic Center | 100 Arboretum Lane | White River Jct.\, VT |&nbsp\;<a href="http://uvaswim.org/"><span style="color:rgb(16\, 60\, 192)">uvaswim.org</span></a>&nbsp\;| 802-296-2850&nbsp\;</p>\n
LOCATION:Upper Valley Aquatic Center | 100 Arboretum Lane | White River Jct.\, VT 05001
UID:e.3068.36320
SEQUENCE:3
DTSTAMP:20260426T030848Z
URL:https://visittheuppervalley.uppervalleybusinessalliance.com/events/details/take-your-fitness-journey-to-the-next-level-with-tribe-team-training-at-uvac-36320
END:VEVENT

END:VCALENDAR
