BEGIN:VCALENDAR
VERSION:2.0
PRODID:-//ChamberMaster//Event Calendar 2.0//EN
METHOD:PUBLISH
X-PUBLISHED-TTL:P3D
REFRESH-INTERVAL:P3D
CALSCALE:GREGORIAN
BEGIN:VEVENT
DTSTART:20260517T190000Z
DTEND:20260517T201500Z
X-MICROSOFT-CDO-ALLDAYEVENT:FALSE
SUMMARY:Suzuki Showcase
DESCRIPTION:Upper Valley Music Center's Suzuki program presents the annual Suzuki Showcase concert featuring music from across the ocean. This concert features more than 100 students ages 3-18 performing on cello\, viola\, and violin\, plus special guest balafon master Mamadou Diabate as the culmination of an educational residency. The concert will bring together Mamadou Diabate's tradition of West African music from his home country of Burkina Faso with other world music traditions\, classical repertoire\, and American fiddle tunes. This event is the culmination of UVMC's Sing & Play Festival\, a celebration of music-making in our community.
X-ALT-DESC;FMTTYPE=text/html:<p>Upper Valley Music Center&rsquo\;s Suzuki program presents the annual Suzuki Showcase concert featuring music from across the ocean. This concert features more than 100 students ages 3-18 performing on cello\, viola\, and violin\, plus special guest balafon master Mamadou Diabate as the culmination of an educational residency. The concert will bring together Mamadou Diabate&rsquo\;s tradition of West African&nbsp\;music from his home country of Burkina Faso with other world music traditions\, classical repertoire\, and American fiddle tunes. This event is the culmination of UVMC&rsquo\;s&nbsp\;<strong>Sing &amp\; Play Festival\,&nbsp\;</strong>a celebration of music-making in our community.</p>\n\n<div>&nbsp\;</div>\n
LOCATION:Lebanon Opera House 51 N Park St Lebanon\, NH 03766
UID:e.3068.38711
SEQUENCE:3
DTSTAMP:20260424T202315Z
URL:https://visittheuppervalley.uppervalleybusinessalliance.com/events/details/suzuki-showcase-38711
END:VEVENT

END:VCALENDAR
