BEGIN:VCALENDAR
VERSION:2.0
PRODID:-//ChamberMaster//Event Calendar 2.0//EN
METHOD:PUBLISH
X-PUBLISHED-TTL:P3D
REFRESH-INTERVAL:P3D
CALSCALE:GREGORIAN
BEGIN:VEVENT
DTSTART:20260416T233000Z
DTEND:20260417T013000Z
X-MICROSOFT-CDO-ALLDAYEVENT:FALSE
SUMMARY:Sunny Jain: Love Force
DESCRIPTION:Music meets storytelling in a blend of Punjabi rhythms\, American jazz and collective celebration. A moving call to compassion and connection.\n\n\nSunny Jain draws on his South Asian heritage and experience as a second-generation immigrant in America to dive into the concept of "love force" satyagraha embracing your oppressor with compassion. Jain\, founder of Red Baraat\, brings his signature talent for creating immediate community to theater\, blurring the lines between performers and audience. Each element of Love Force is carefully crafted for frequencies\, rhythm\, and vibrations unleashing a powerful gathering through song and story. Love Force explores the universal nature of music\, and how through compassion and love we can break down barriers created by religion\, cultural traditions\, racism and time. Jain invites us to feel the past in the present and to imagine healing through love.
X-ALT-DESC;FMTTYPE=text/html:<h3>Music meets storytelling in a blend of Punjabi rhythms\, American jazz and collective celebration. A moving call to compassion and connection.</h3>\n\n<div>\n<p>Sunny Jain draws on his South Asian heritage and experience as a second-generation immigrant in America to dive into the concept of &quot\;love force&quot\;&mdash\;satyagraha&mdash\;embracing your oppressor with compassion. Jain\, founder of Red Baraat\, brings his signature talent for creating immediate community to theater\, blurring the lines between performers and audience. Each element of&nbsp\;<em>Love Force</em>&nbsp\;is carefully crafted for frequencies\, rhythm\, and vibrations unleashing a powerful gathering through song and story.&nbsp\;<em>Love Force</em>&nbsp\;explores the universal nature of music\, and how through compassion and love we can break down barriers created by religion\, cultural traditions\, racism and time. Jain invites us to feel the past in the present and to imagine healing through love.</p>\n</div>\n
LOCATION:Hopkins Center Spaulding Auditorium 12 Lebanon Street Hanover\, NH
UID:e.3068.37279
SEQUENCE:3
DTSTAMP:20260419T192934Z
URL:https://visittheuppervalley.uppervalleybusinessalliance.com/events/details/sunny-jain-love-force-37279
END:VEVENT

END:VCALENDAR
