BEGIN:VCALENDAR
VERSION:2.0
PRODID:-//ChamberMaster//Event Calendar 2.0//EN
METHOD:PUBLISH
X-PUBLISHED-TTL:P3D
REFRESH-INTERVAL:P3D
CALSCALE:GREGORIAN
BEGIN:VEVENT
DTSTART:20260430T210000Z
DTEND:20260430T230000Z
X-MICROSOFT-CDO-ALLDAYEVENT:FALSE
SUMMARY:Strategies That Seek to Avoid Financial Errors in Divorce Settlement
DESCRIPTION:Claremont Financial Services is excited to have our Certified Divorced Financial Analyst (CDFA )\, Ashleigh McFarlin\, present on how to prepare financially for divorce. Divorce is never easy and it's rarely as straightforward as it seems. This seminar will walk you through the key financial considerations you need to understand when navigating a divorce settlement. You'll gain insights that range from identifying common financial pitfalls to making informed long-term decisions. Whether you're currently going through a divorce or planning ahead\, this session will help you approach the process with greater clarity and confidence.
X-ALT-DESC;FMTTYPE=text/html:Claremont Financial Services is excited to have our Certified Divorced Financial Analyst (CDFA&reg\;)\, Ashleigh McFarlin\, present on how to prepare financially for divorce. Divorce is never easy and it&rsquo\;s rarely as straightforward as it seems. This seminar will walk you through the key financial considerations you need to understand when navigating a divorce settlement. You&#39\;ll gain insights that range from identifying common financial pitfalls to making informed long-term decisions. Whether you&rsquo\;re currently going through a divorce or planning ahead\, this session will help you approach the process with greater clarity and confidence.
LOCATION:AVA Gallery & Art Center 11 Bank St.
UID:e.3068.38701
SEQUENCE:3
DTSTAMP:20260420T000615Z
URL:https://visittheuppervalley.uppervalleybusinessalliance.com/events/details/strategies-that-seek-to-avoid-financial-errors-in-divorce-settlement-38701
END:VEVENT

END:VCALENDAR
