BEGIN:VCALENDAR
VERSION:2.0
PRODID:-//ChamberMaster//Event Calendar 2.0//EN
METHOD:PUBLISH
X-PUBLISHED-TTL:P3D
REFRESH-INTERVAL:P3D
CALSCALE:GREGORIAN
BEGIN:VEVENT
DTSTART:20260502T233000Z
DTEND:20260503T013000Z
X-MICROSOFT-CDO-ALLDAYEVENT:FALSE
SUMMARY:Spring 2026: Handel Society & Glee Club
DESCRIPTION:The two choirs join forces to present Mendelssohn's 'Elijah' a sweeping oratorio that delves into faith\, doubt and resilience through stirring choruses and deeply human storytelling.\n\n\nFilippo Ciabatti\, director
X-ALT-DESC;FMTTYPE=text/html:<h3>The two choirs join forces to present Mendelssohn&#39\;s &#39\;Elijah&#39\;&mdash\;a sweeping oratorio that delves into faith\, doubt and resilience through stirring choruses and deeply human storytelling.</h3>\n\n<div>\n<p><strong>Filippo Ciabatti\, director</strong></p>\n</div>\n
LOCATION:Hopkins Center Spaulding Auditorium 12 Lebanon Street Hanover\, NH
UID:e.3068.37288
SEQUENCE:3
DTSTAMP:20260419T211735Z
URL:https://visittheuppervalley.uppervalleybusinessalliance.com/events/details/spring-2026-handel-society-glee-club-37288
END:VEVENT

END:VCALENDAR
