BEGIN:VCALENDAR
VERSION:2.0
PRODID:-//ChamberMaster//Event Calendar 2.0//EN
METHOD:PUBLISH
X-PUBLISHED-TTL:P3D
REFRESH-INTERVAL:P3D
CALSCALE:GREGORIAN
BEGIN:VEVENT
DTSTART:20260523T233000Z
DTEND:20260524T013000Z
X-MICROSOFT-CDO-ALLDAYEVENT:FALSE
SUMMARY:Spring 2026: Dartmouth College Wind Ensemble
DESCRIPTION:The program features works by long-time collaborators and composers Juan Pablo Contreras and Nubia Jaime Donjuan.\n\n\nBrian Messier\, director\n\nJoin us for an unforgettable evening featuring Danz n No. 3 "The Lone Pine" by Donjuan and a new piece by Latin Grammy-nominated Contreras both commissioned by the Hop and performed for the very first time.\n\nPart of the Mexican Repertoire Initiative a Hop initiative to create\, support and expand the reach of new repertoire by Mexican composer.\n\nPart of the Mexican Repertoire Initiative at Dartmouth.
X-ALT-DESC;FMTTYPE=text/html:<h3>The program features works by long-time collaborators and composers Juan Pablo Contreras and Nubia Jaime Donjuan.</h3>\n\n<div>\n<p><strong>Brian Messier\, director</strong></p>\n\n<p>Join us for an unforgettable evening featuring Danz&oacute\;n No. 3 &quot\;The Lone Pine&quot\; by Donjuan and a new piece by Latin Grammy-nominated Contreras&mdash\;both commissioned by the Hop and performed for the very first time.</p>\n\n<p>Part of the Mexican Repertoire Initiative&mdash\;a Hop initiative to create\, support and expand the reach of new repertoire by Mexican composer.</p>\n\n<p><a href="https://hop.dartmouth.edu/node/19166" style="box-sizing: border-box\; color: rgb(0\, 0\, 0)\; font-synthesis: none !important\;"><strong>Part of the Mexican Repertoire Initiative at Dartmouth.</strong></a></p>\n</div>\n
LOCATION:Hopkins Center Spaulding Auditorium 12 Lebanon Street Hanover\, NH
UID:e.3068.37294
SEQUENCE:3
DTSTAMP:20260419T210553Z
URL:https://visittheuppervalley.uppervalleybusinessalliance.com/events/details/spring-2026-dartmouth-college-wind-ensemble-37294
END:VEVENT

END:VCALENDAR
