BEGIN:VCALENDAR
VERSION:2.0
PRODID:-//ChamberMaster//Event Calendar 2.0//EN
METHOD:PUBLISH
X-PUBLISHED-TTL:P3D
REFRESH-INTERVAL:P3D
CALSCALE:GREGORIAN
BEGIN:VEVENT
DTSTART:20260528T233000Z
DTEND:20260529T013000Z
X-MICROSOFT-CDO-ALLDAYEVENT:FALSE
SUMMARY:Spring 2026: Dartmouth College Gospel Choir
DESCRIPTION:Student and community vocalists share powerful messages in an uplifting performance.\n\n\nAhmaya Knoelle Higginson\, director
X-ALT-DESC;FMTTYPE=text/html:<h3>Student and community vocalists share powerful messages in an uplifting performance.</h3>\n\n<div>\n<p><strong>Ahmaya Knoelle Higginson\, director</strong></p>\n</div>\n
LOCATION:Hopkins Center Spaulding Auditorium 12 Lebanon Street Hanover\, NH
UID:e.3068.37295
SEQUENCE:3
DTSTAMP:20260419T211226Z
URL:https://visittheuppervalley.uppervalleybusinessalliance.com/events/details/spring-2026-dartmouth-college-gospel-choir-37295
END:VEVENT

END:VCALENDAR
