BEGIN:VCALENDAR
VERSION:2.0
PRODID:-//ChamberMaster//Event Calendar 2.0//EN
METHOD:PUBLISH
X-PUBLISHED-TTL:P3D
REFRESH-INTERVAL:P3D
CALSCALE:GREGORIAN
BEGIN:VEVENT
DTSTART:20260530T233000Z
DTEND:20260531T013000Z
X-MICROSOFT-CDO-ALLDAYEVENT:FALSE
SUMMARY:Spring 2026: Coast Jazz Orchestra
DESCRIPTION:The Coast's graduating seniors grab the reins.\n\n\nTaylor Ho Bynum\, director
X-ALT-DESC;FMTTYPE=text/html:<h3>The Coast&#39\;s graduating seniors grab the reins.</h3>\n\n<div>\n<p><strong>Taylor Ho Bynum\, director</strong></p>\n</div>\n
LOCATION:Hopkins Center Spaulding Auditorium 12 Lebanon Street Hanover\, NH
UID:e.3068.37293
SEQUENCE:3
DTSTAMP:20260419T225006Z
URL:https://visittheuppervalley.uppervalleybusinessalliance.com/events/details/spring-2026-coast-jazz-orchestra-37293
END:VEVENT

END:VCALENDAR
