BEGIN:VCALENDAR
VERSION:2.0
PRODID:-//ChamberMaster//Event Calendar 2.0//EN
METHOD:PUBLISH
X-PUBLISHED-TTL:P3D
REFRESH-INTERVAL:P3D
CALSCALE:GREGORIAN
BEGIN:VEVENT
DTSTART:20260404T180000Z
DTEND:20260404T193000Z
X-MICROSOFT-CDO-ALLDAYEVENT:FALSE
SUMMARY:Ring into Spring! Intro to Handbell Workshop
DESCRIPTION:Explore the fundamentals of handbell ringing in this free workshop at Kilton Library. Members of the Upper Valley Ringers will teach the basic techniques of ringing with a bell choir. Participants will learn how to follow music arranged for this unique instrument and experience the joy of playing a part in the ensemble! \n\nNo handbell experience required. Reading music is helpful\, but not required for participation. \n\nThis workshop will include a lot of time standing. Please let us know if you need accommodation in order to participate and we can plan accordingly. \n\nAges 8 and up   young students who don't yet read music are encouraged to attend with an adult who can help them follow along.\n\n\n\nPre-registration required by March 27.
X-ALT-DESC;FMTTYPE=text/html:<p>Explore the fundamentals of handbell ringing in this free workshop at Kilton Library. Members of the Upper Valley Ringers will teach the basic techniques of ringing with a bell choir. Participants will learn how to follow music arranged for this unique instrument and experience the joy of playing a part in the ensemble!&nbsp\;</p>\n\n<p>No handbell experience required. Reading music is helpful\, but not required for participation.&nbsp\;</p>\n\n<p>This workshop will include a lot of time standing. Please let us know if you need accommodation in order to participate and we can plan accordingly.&nbsp\;</p>\n\n<p>Ages 8 and up &ndash\; young students who don&rsquo\;t yet read music are encouraged to attend with an adult who can help them follow along.<br />\n<br />\nPre-registration required by March 27.</p>\n
LOCATION:Kilton Public Library 80 Main Street West Lebanon\, NH 03784
UID:e.3068.38296
SEQUENCE:3
DTSTAMP:20260419T192723Z
URL:https://visittheuppervalley.uppervalleybusinessalliance.com/events/details/ring-into-spring-intro-to-handbell-workshop-38296
END:VEVENT

END:VCALENDAR
