BEGIN:VCALENDAR
VERSION:2.0
PRODID:-//ChamberMaster//Event Calendar 2.0//EN
METHOD:PUBLISH
X-PUBLISHED-TTL:P3D
REFRESH-INTERVAL:P3D
CALSCALE:GREGORIAN
BEGIN:VEVENT
DTSTART:20260502T140000Z
DTEND:20260502T190000Z
X-MICROSOFT-CDO-ALLDAYEVENT:FALSE
SUMMARY:rePlay Arts Spring Fabric Sale
DESCRIPTION:Come shop our stash at rePlay Arts' spring fabric "sidewalk" sale! We have TONS of amazing fabric in all sizes\, materials\, and colors. If you thought last fall's fabric sale was out of this world\, this one will be even better! This year\, we have a special quilting section where you can browse through thousands of gorgeous pre-cut quilt pieces. We also have sewing patterns\, fill\, ribbons\, trim\, and all the notions you can dream of.
X-ALT-DESC;FMTTYPE=text/html:Come shop our stash at rePlay Arts&rsquo\; spring fabric &ldquo\;sidewalk&rdquo\; sale! We have TONS of amazing fabric in all sizes\, materials\, and colors. If you thought last fall&rsquo\;s fabric sale was out of this world\, this one will be even better! This year\, we have a special quilting section where you can browse through thousands of gorgeous pre-cut quilt pieces. We also have sewing patterns\, fill\, ribbons\, trim\, and all the notions you can dream of.
LOCATION:rePlay Arts\, 87 Maple Street\, White River Junction
UID:e.3068.38734
SEQUENCE:3
DTSTAMP:20260425T134646Z
URL:https://visittheuppervalley.uppervalleybusinessalliance.com/events/details/replay-arts-spring-fabric-sale-38734
END:VEVENT

END:VCALENDAR
