BEGIN:VCALENDAR
VERSION:2.0
PRODID:-//ChamberMaster//Event Calendar 2.0//EN
METHOD:PUBLISH
X-PUBLISHED-TTL:P3D
REFRESH-INTERVAL:P3D
CALSCALE:GREGORIAN
BEGIN:VEVENT
DTSTART:20260419T233000Z
DTEND:20260420T003000Z
X-MICROSOFT-CDO-ALLDAYEVENT:FALSE
SUMMARY:Recital Series: Tyshawn Sorey Trio
DESCRIPTION:Flow through a range of styles and moods with original jazz works\, stunning improvisations and new takes on the American Songbook.\n\n\nPulitzer Prize-winning composer\, percussionist and multi-instrumentalist Tyshawn Sorey is one of the most visionary artists of his generation known for a practice that defies category and a sound that reshapes the possibilities of improvisation.\n\nJoined by longtime collaborators Aaron Diehl on the piano and Harish Raghavan on bass\, Sorey blends rigorous structure with boundless spontaneity\, drawing on everything from 20th-century classical to post-bop\, minimalism to free jazz.\n\nThe Trio has released 3 critically acclaimed albums Mesmerism (2023)\, Continuing (2023)\, and The Susceptible Now (2024).
X-ALT-DESC;FMTTYPE=text/html:<h3>Flow through a range of styles and moods with original jazz works\, stunning improvisations and new takes on the American Songbook.</h3>\n\n<div>\n<p>Pulitzer Prize-winning composer\, percussionist and multi-instrumentalist Tyshawn Sorey is one of the most visionary artists of his generation&mdash\;known for a practice that defies category and a sound that reshapes the possibilities of improvisation.</p>\n\n<p>Joined by longtime collaborators Aaron Diehl on the piano and Harish Raghavan on bass\, Sorey blends rigorous structure with boundless spontaneity\, drawing on everything from 20th-century classical to post-bop\, minimalism to free jazz.</p>\n\n<p>The Trio has released 3 critically acclaimed albums&mdash\;<em>Mesmerism</em>&nbsp\;(2023)\,&nbsp\;<em>Continuing</em>&nbsp\;(2023)\, and&nbsp\;<em>The Susceptible Now</em>&nbsp\;(2024).&nbsp\;</p>\n</div>\n
LOCATION:Hopkins Center Morris Recital Hall 4 East Wheelock Street Hanover\, NH
UID:e.3068.37281
SEQUENCE:3
DTSTAMP:20260419T193843Z
URL:https://visittheuppervalley.uppervalleybusinessalliance.com/events/details/recital-series-tyshawn-sorey-trio-04-19-2026-37281
END:VEVENT

END:VCALENDAR
