BEGIN:VCALENDAR
VERSION:2.0
PRODID:-//ChamberMaster//Event Calendar 2.0//EN
METHOD:PUBLISH
X-PUBLISHED-TTL:P3D
REFRESH-INTERVAL:P3D
CALSCALE:GREGORIAN
BEGIN:VEVENT
DTSTART:20260422T233000Z
DTEND:20260423T013000Z
X-MICROSOFT-CDO-ALLDAYEVENT:FALSE
SUMMARY:Recital Series: Sally Pinkas
DESCRIPTION:Late works by Beethoven\, Schumann and Brahms.\n\n\nIn this program\, Pinkas explores the later fruits of three magnificent composers. Beethoven's Sonata Op. 110\, Schumann's Ges nge der Fr he and Brahms Intermezzi Op. 118 are distillations of wisdom\, experience\, joy and perhaps sorrow: a celebration of a rich life lived in music.
X-ALT-DESC;FMTTYPE=text/html:<h3>Late works by Beethoven\, Schumann and Brahms.</h3>\n\n<div>\n<p>In this program\, Pinkas explores the later fruits of three magnificent composers. Beethoven&#39\;s Sonata Op. 110\, Schumann&#39\;s Ges&auml\;nge der Fr&uuml\;he and Brahms Intermezzi Op. 118 are distillations of wisdom\, experience\, joy and perhaps sorrow: a celebration of a rich life lived in music.</p>\n</div>\n
LOCATION:Hopkins Center Morris Recital Hall 4 East Wheelock Street Hanover\, NH
UID:e.3068.37282
SEQUENCE:3
DTSTAMP:20260419T193122Z
URL:https://visittheuppervalley.uppervalleybusinessalliance.com/events/details/recital-series-sally-pinkas-37282
END:VEVENT

END:VCALENDAR
