BEGIN:VCALENDAR
VERSION:2.0
PRODID:-//ChamberMaster//Event Calendar 2.0//EN
METHOD:PUBLISH
X-PUBLISHED-TTL:P3D
REFRESH-INTERVAL:P3D
CALSCALE:GREGORIAN
BEGIN:VEVENT
DTSTART:20260505T230000Z
DTEND:20260506T000000Z
X-MICROSOFT-CDO-ALLDAYEVENT:FALSE
SUMMARY:Recital Series: Francesco Libetta
DESCRIPTION:A solo piano recital that bridges centuries and sensibilities.\n\n\nFrancesco Libetta\, the Italian pianist and composer hailed for his poetic virtuosity\, presents a mesmerizing exploration of music across time. In this singular recital\, he juxtaposes a selection of Leopold Godowsky's famously intricate reimaginings of Chopin's  tudes with the original pieces. He performs on both a French 19th-century piano and a modern Steinway\, drawing out the shifting voices of the instrument through history. The result is a revelatory dialogue between past and present.
X-ALT-DESC;FMTTYPE=text/html:<h3>A solo piano recital that bridges centuries and sensibilities.</h3>\n\n<div>\n<p>Francesco Libetta\, the Italian pianist and composer hailed for his poetic virtuosity\, presents a mesmerizing exploration of music across time. In this singular recital\, he juxtaposes a selection of Leopold Godowsky&#39\;s famously intricate reimaginings of Chopin&#39\;s &Eacute\;tudes with the original pieces. He performs on both a French 19th-century piano and a modern Steinway\, drawing out the shifting voices of the instrument through history. The result is a revelatory dialogue between past and present.</p>\n</div>\n
LOCATION:Hopkins Center Morris Recital Hall 4 East Wheelock Street Hanover\, NH
UID:e.3068.37289
SEQUENCE:3
DTSTAMP:20260419T210637Z
URL:https://visittheuppervalley.uppervalleybusinessalliance.com/events/details/recital-series-francesco-libetta-37289
END:VEVENT

END:VCALENDAR
