BEGIN:VCALENDAR
VERSION:2.0
PRODID:-//ChamberMaster//Event Calendar 2.0//EN
METHOD:PUBLISH
X-PUBLISHED-TTL:P3D
REFRESH-INTERVAL:P3D
CALSCALE:GREGORIAN
BEGIN:VEVENT
DTSTART:20260501T220000Z
DTEND:20260502T003000Z
X-MICROSOFT-CDO-ALLDAYEVENT:FALSE
SUMMARY:Open Mike Karaoke
DESCRIPTION:On First Friday in White River Junction\, sing (or even play) along to your favorite tunes at JAM   Junction Arts and Media with our JAM Operations Manager and actual father of three\, Mike "Mike Daddy" Cannon. Free and open to all ages!\n\n \n\nhttps://uvjam.org/event/open-mike-karaoke/
X-ALT-DESC;FMTTYPE=text/html:<p>On First Friday in White River Junction\, sing (or even play) along to your favorite tunes at JAM &ndash\; Junction Arts and Media with our JAM Operations Manager and actual father of three\, Mike &ldquo\;Mike Daddy&rdquo\; Cannon. Free and open to all ages!</p>\n\n<p>&nbsp\;</p>\n\n<p><a href="https://uvjam.org/event/open-mike-karaoke/">https://uvjam.org/event/open-mike-karaoke/</a></p>\n
LOCATION:5 S. Main Street\, 1st Floor White River Junction\, VT 05001
UID:e.3068.38713
SEQUENCE:3
DTSTAMP:20260422T213250Z
URL:https://visittheuppervalley.uppervalleybusinessalliance.com/events/details/open-mike-karaoke-38713
END:VEVENT

END:VCALENDAR
