BEGIN:VCALENDAR
VERSION:2.0
PRODID:-//ChamberMaster//Event Calendar 2.0//EN
METHOD:PUBLISH
X-PUBLISHED-TTL:P3D
REFRESH-INTERVAL:P3D
CALSCALE:GREGORIAN
BEGIN:VEVENT
DTSTART;VALUE=DATE:20260513
DTEND;VALUE=DATE:20260514
TRANSP:TRANSPARENT
X-MICROSOFT-CDO-ALLDAYEVENT:TRUE
SUMMARY:New Comic Book Day
DESCRIPTION:There's no bad time to visit The Fourth Place if you love comics or superheroes\, but Wednesday means we have the newest issues\, and you'll find other people who love comics too!\n\n\n\nWednesday Hours: 2:00 pm to 10:00 pm (or later)
X-ALT-DESC;FMTTYPE=text/html:There&#39\;s no bad time to visit The Fourth Place if you love comics or superheroes\, but Wednesday means we have the newest issues\, and you&#39\;ll find other people who love comics too!<br />\n<br />\nWednesday Hours: 2:00 pm to 10:00 pm (or later)
LOCATION:The Fourth Place 3 Lebanon St (Second Floor) Hanover\, NH 03755
UID:e.3068.33100
SEQUENCE:3
DTSTAMP:20260420T020233Z
URL:https://visittheuppervalley.uppervalleybusinessalliance.com/events/details/new-comic-book-day-05-13-2026-33100
END:VEVENT

END:VCALENDAR
