BEGIN:VCALENDAR
VERSION:2.0
PRODID:-//ChamberMaster//Event Calendar 2.0//EN
METHOD:PUBLISH
X-PUBLISHED-TTL:P3D
REFRESH-INTERVAL:P3D
CALSCALE:GREGORIAN
BEGIN:VEVENT
DTSTART:20260508T220000Z
DTEND:20260509T020000Z
X-MICROSOFT-CDO-ALLDAYEVENT:FALSE
SUMMARY:MUDSTOCK - 2nd Annual Fundraising Gala
DESCRIPTION:After an incredibly snowy winter\, the spring/"mud season" reminds us how hardy you need to be to hold the title of "Vermonter". We at Pentangle Arts are celebrating the end of the least celebrated season with our annual MUDSTOCK Event. Join us in saying goodbye to the mud and hello to the spring buds on May 8th. Come and enjoy mudpies\, mudslides\, mingling\, with music by the amazing BettySoo. Coming all the way from Texas\, BettySoo's vocal prowess is a thing of wonder. A world-class instrument of deft phrasing and purity\, a voice that knows when to hold back and when to dive in. The fun does not just end there\, we encourage goers to wear their best "mud chic" look to pair with a seasonal hat or crown and your most fabulous wellies or mud boots. The most unique boots and crowns will be entered into a drawing for a 1-YEAR FREE FAMILY MOVIE PASS! This fundraiser is to support our amazing summer season line up for "Music by the River". Which is a series every Friday in July & August of free live music shows in Woodstock\, VT. See full summer season line up below. Reserve your tickets today: This is for the entire community\; therefore the event tickets are pay what you will.
X-ALT-DESC;FMTTYPE=text/html:After an incredibly snowy winter\, the spring/&ldquo\;mud season&rdquo\; reminds us how hardy you need to be to hold the title of &ldquo\;Vermonter&rdquo\;. We at Pentangle Arts are celebrating the end of the least celebrated season with our annual MUDSTOCK Event. Join us in saying goodbye to the mud and hello to the spring buds on May 8th. Come and enjoy mudpies\, mudslides\, mingling\, with music by the amazing BettySoo. Coming all the way from Texas\, BettySoo&rsquo\;s vocal prowess is a thing of wonder. A world-class instrument of deft phrasing and purity\, a voice that knows when to hold back and when to dive in. The fun does not just end there\, we encourage goers to wear their best &ldquo\;mud chic&rdquo\; look to pair with a seasonal hat or crown and your most fabulous wellies or mud boots. The most unique boots and crowns will be entered into a drawing for a 1-YEAR FREE FAMILY MOVIE PASS! This fundraiser is to support our amazing summer season line up for &ldquo\;Music by the River&rdquo\;. Which is a series every Friday in July &amp\; August of free live music shows in Woodstock\, VT. See full summer season line up below. Reserve your tickets today: This is for the entire community\; therefore the event tickets are pay what you will.
LOCATION:Woodstock Town Hall Theatre\, 31 The Grn\, Woodstock\, Vt 05091
UID:e.3068.38706
SEQUENCE:3
DTSTAMP:20260420T015830Z
URL:https://visittheuppervalley.uppervalleybusinessalliance.com/events/details/mudstock-2nd-annual-fundraising-gala-38706
END:VEVENT

END:VCALENDAR
