BEGIN:VCALENDAR
VERSION:2.0
PRODID:-//ChamberMaster//Event Calendar 2.0//EN
METHOD:PUBLISH
X-PUBLISHED-TTL:P3D
REFRESH-INTERVAL:P3D
CALSCALE:GREGORIAN
BEGIN:VEVENT
DTSTART:20260616T180000Z
DTEND:20260616T223000Z
X-MICROSOFT-CDO-ALLDAYEVENT:FALSE
SUMMARY:Mouth-Watering Treats from Piper Brook Sweets
DESCRIPTION:Visit with Adele from Piper Brook Sweets for incredible baked goods! Satisfy your sweet tooth with a variety of delectable pastries and cakes made with love\, creativity\, and an emphasis on seasonality.
X-ALT-DESC;FMTTYPE=text/html:<span style="color:rgb(0\, 0\, 0)\; font-family:rubik\,sans-serif\; font-size:17px">Visit with Adele from Piper Brook Sweets for incredible baked goods! Satisfy your sweet tooth with&nbsp\;a variety of delectable pastries and cakes made with love\, creativity\, and an emphasis on seasonality.</span>
LOCATION:Sweetland Farm
UID:e.3068.38343
SEQUENCE:3
DTSTAMP:20260420T065707Z
URL:https://visittheuppervalley.uppervalleybusinessalliance.com/events/details/mouth-watering-treats-from-piper-brook-sweets-06-16-2026-38343
END:VEVENT

END:VCALENDAR
