BEGIN:VCALENDAR
VERSION:2.0
PRODID:-//ChamberMaster//Event Calendar 2.0//EN
METHOD:PUBLISH
X-PUBLISHED-TTL:P3D
REFRESH-INTERVAL:P3D
CALSCALE:GREGORIAN
BEGIN:VEVENT
DTSTART:20260510T140000Z
DTEND:20260510T190000Z
X-MICROSOFT-CDO-ALLDAYEVENT:FALSE
SUMMARY:Mother's Day Brunch at 110 Grill
DESCRIPTION:Come celebrate Mother's Day Brunch at 110 Grill. Available 10 AM - 3 PM on Sunday 5/10.
X-ALT-DESC;FMTTYPE=text/html:Come celebrate Mother&#39\;s Day Brunch at 110 Grill. Available 10 AM - 3 PM on Sunday 5/10.
LOCATION:110 Grill West Lebanon 250 N Plainfield Rd West Lebanon\, NH 03784
UID:e.3068.38725
SEQUENCE:3
DTSTAMP:20260425T134657Z
URL:https://visittheuppervalley.uppervalleybusinessalliance.com/events/details/mother-s-day-brunch-at-110-grill-38725
END:VEVENT

END:VCALENDAR
