BEGIN:VCALENDAR
VERSION:2.0
PRODID:-//ChamberMaster//Event Calendar 2.0//EN
METHOD:PUBLISH
X-PUBLISHED-TTL:P3D
REFRESH-INTERVAL:P3D
CALSCALE:GREGORIAN
BEGIN:VEVENT
DTSTART:20260518T213000Z
DTEND:20260518T230000Z
X-MICROSOFT-CDO-ALLDAYEVENT:FALSE
SUMMARY:Money is Weird: A Three-part Financial Series for Women
DESCRIPTION:Money is weird. It's emotional\, it's personal\, and nobody really teaches us how to handle it. This three-part series creates a judgment-free space for women+ to get honest about their finances\, build practical skills\, and actually leave each session with something useful. Sessions can be attended individually or as a complete series.
X-ALT-DESC;FMTTYPE=text/html:Money is weird. It&#39\;s emotional\, it&#39\;s personal\, and nobody really teaches us how to handle it. This three-part series creates a judgment-free space for women+ to get honest about their finances\, build practical skills\, and actually leave each session with something useful. Sessions can be attended individually or as a complete series.
LOCATION:AVA Gallery 1st floor Schleicher Studio
UID:e.3068.38732
SEQUENCE:3
DTSTAMP:20260425T134936Z
URL:https://visittheuppervalley.uppervalleybusinessalliance.com/events/details/money-is-weird-a-three-part-financial-series-for-women-38732
END:VEVENT

END:VCALENDAR
