BEGIN:VCALENDAR
VERSION:2.0
PRODID:-//ChamberMaster//Event Calendar 2.0//EN
METHOD:PUBLISH
X-PUBLISHED-TTL:P3D
REFRESH-INTERVAL:P3D
CALSCALE:GREGORIAN
BEGIN:VEVENT
DTSTART:20260516T130000Z
DTEND:20260517T030000Z
X-MICROSOFT-CDO-ALLDAYEVENT:FALSE
SUMMARY:Miles for Morgan 5K COlor Run
DESCRIPTION:5K Color Run to support Morgans Miles to Go Foundation
X-ALT-DESC;FMTTYPE=text/html:5K Color Run to support Morgans Miles to Go Foundation
LOCATION:Village Road Newbury NH
UID:e.3068.38705
SEQUENCE:3
DTSTAMP:20260419T210111Z
URL:https://visittheuppervalley.uppervalleybusinessalliance.com/events/details/miles-for-morgan-5k-color-run-38705
END:VEVENT

END:VCALENDAR
