BEGIN:VCALENDAR
VERSION:2.0
PRODID:-//ChamberMaster//Event Calendar 2.0//EN
METHOD:PUBLISH
X-PUBLISHED-TTL:P3D
REFRESH-INTERVAL:P3D
CALSCALE:GREGORIAN
BEGIN:VEVENT
DTSTART:20260503T170000Z
DTEND:20260503T210500Z
X-MICROSOFT-CDO-ALLDAYEVENT:FALSE
SUMMARY:Met Opera in HD: Eugene Onegin (Pyotr Ilyich Tchaikovsky)
DESCRIPTION:Baritone Igor Golovatenko stars as the title character opposite soprano Asmik Grigorian in Tchaikovsky's lyrical Pushkin adaptation.\n\n\nFollowing her acclaimed 2024 Met debut in Puccini's Madama Butterfly\, soprano Asmik Grigorian stars as Tatiana\, the lovestruck young heroine in this ardent operatic Pushkin adaptation. Baritone Igor Golovatenko reprises his portrayal of the urbane Onegin\, who realizes his affection for her all too late. \n\nStephanie Blythe sings the role of Tatiana's nurse\, with mezzo-soprano Maria Barakova playing Tatiana's sister Olga and baritone Satnislas de Barbeyrac portraying the ill-fated poet Lenski. The Met's evocative production set in nineteenth-century Russia\, directed by Tony Award winner Deborah Warner\, "offers a beautifully detailed reading of   Tchaikovsky's lyrical romance" (The Telegraph). Timur Zangiev conducts.
X-ALT-DESC;FMTTYPE=text/html:<h3>Baritone Igor Golovatenko stars as the title character opposite soprano Asmik Grigorian in Tchaikovsky&#39\;s lyrical Pushkin adaptation.</h3>\n\n<div>\n<p>Following her acclaimed 2024 Met debut in Puccini&#39\;s&nbsp\;<em>Madama Butterfly</em>\, soprano Asmik Grigorian stars as Tatiana\, the lovestruck young heroine in this ardent operatic Pushkin adaptation. Baritone Igor Golovatenko reprises his portrayal of the urbane Onegin\, who realizes his affection for her all too late.&nbsp\;</p>\n\n<p>Stephanie Blythe sings the role of Tatiana&#39\;s nurse\, with mezzo-soprano Maria Barakova playing Tatiana&#39\;s sister Olga and baritone Satnislas de Barbeyrac portraying the ill-fated poet Lenski. The Met&#39\;s evocative production set in nineteenth-century Russia\, directed by Tony Award&ndash\;winner Deborah Warner\, &quot\;offers a beautifully detailed reading of &hellip\; Tchaikovsky&#39\;s lyrical romance&quot\; (<em>The Telegraph</em>). Timur Zangiev conducts.</p>\n</div>\n
LOCATION:Hopkins Center Spaulding Auditorium 12 Lebanon Street Hanover\, NH
UID:e.3068.37297
SEQUENCE:3
DTSTAMP:20260419T210652Z
URL:https://visittheuppervalley.uppervalleybusinessalliance.com/events/details/met-opera-in-hd-eugene-onegin-pyotr-ilyich-tchaikovsky-37297
END:VEVENT

END:VCALENDAR
