BEGIN:VCALENDAR
VERSION:2.0
PRODID:-//ChamberMaster//Event Calendar 2.0//EN
METHOD:PUBLISH
X-PUBLISHED-TTL:P3D
REFRESH-INTERVAL:P3D
CALSCALE:GREGORIAN
BEGIN:VEVENT
DTSTART:20260531T170000Z
DTEND:20260531T195000Z
X-MICROSOFT-CDO-ALLDAYEVENT:FALSE
SUMMARY:Met Opera in HD: El Último Sueño de Frida y Diego (Gabriela Lena Frank - Met Premiere)
DESCRIPTION:This vibrant Met premiere of Gabriela Lena Frank's magical-realist opera about Frida Kahlo and Diego Rivera features a stunning libretto by playwright Nilo Cruz.\n\n\nFashioned as a reversal of the Orpheus and Euridice myth\, the story depicts Frida Kahlo\, sung by leading mezzo-soprano Isabel Leonard\, leaving the underworld on the Day of the Dead and reuniting with Diego Rivera\, portrayed by baritone Carlos  lvarez. The famously feuding pair briefly relive their tumultuous love\, embracing both the passion and the pain before bidding the land of the living a final farewell. Countertenor Nils Wanderer as a young actor trapped in the underworld and soprano Gabriella Reyes as the Keeper of the Dead round out the cast.\n\nThe vibrant new production\, taking enthusiastic inspiration from Frida and Diego's paintings\, is directed and choreographed by Deborah Colker. Music Director Yannick N zet-S guin conducts the Met-premiere staging of Frank's opera\, a "confident\, richly imagined score" (The New Yorker) that "bursts with color and fresh individuality" (Los Angeles Times).
X-ALT-DESC;FMTTYPE=text/html:<h3>This vibrant Met premiere of Gabriela Lena Frank&#39\;s magical-realist opera about Frida Kahlo and Diego Rivera features a stunning libretto by playwright Nilo Cruz.</h3>\n\n<div>\n<p>Fashioned as a reversal of the Orpheus and Euridice myth\, the story depicts Frida Kahlo\, sung by leading mezzo-soprano Isabel Leonard\, leaving the underworld on the Day of the Dead and reuniting with Diego Rivera\, portrayed by baritone Carlos &Aacute\;lvarez. The famously feuding pair briefly relive their tumultuous love\, embracing both the passion and the pain before bidding the land of the living a final farewell. Countertenor Nils Wanderer as a young actor trapped in the underworld and soprano Gabriella Reyes as the Keeper of the Dead round out the cast.</p>\n\n<p>The vibrant new production\, taking enthusiastic inspiration from Frida and Diego&#39\;s paintings\, is directed and choreographed by Deborah Colker. Music Director Yannick N&eacute\;zet-S&eacute\;guin conducts the Met-premiere staging of Frank&#39\;s opera\, a &quot\;confident\, richly imagined score&quot\; (<em>The New Yorker</em>) that &quot\;bursts with color and fresh individuality&quot\; (<em>Los Angeles Times</em>).&nbsp\;</p>\n</div>\n
LOCATION:Hopkins Center Spaulding Auditorium 12 Lebanon Street Hanover\, NH
UID:e.3068.37296
SEQUENCE:3
DTSTAMP:20260419T210838Z
URL:https://visittheuppervalley.uppervalleybusinessalliance.com/events/details/met-opera-in-hd-el-&#250;ltimo-sue&#241;o-de-frida-y-diego-gabriela-lena-frank-met-premiere-37296
END:VEVENT

END:VCALENDAR
