BEGIN:VCALENDAR
VERSION:2.0
PRODID:-//ChamberMaster//Event Calendar 2.0//EN
METHOD:PUBLISH
X-PUBLISHED-TTL:P3D
REFRESH-INTERVAL:P3D
CALSCALE:GREGORIAN
BEGIN:VEVENT
DTSTART:20261214T230000Z
DTEND:20261215T003000Z
X-MICROSOFT-CDO-ALLDAYEVENT:FALSE
SUMMARY:Media Maker Monday at JAM!
DESCRIPTION:JAM   Junction Arts & Media welcomes Media Maker Members and their guests to a work in progress show and tell and peer feedback session. These sessions happen at JAM every 2nd Monday of the month.\n\nHave a screenplay or stage play\, short film rough cut\, documentary project\, podcast in progress\, animation story board\, pitch deck\, or just an idea you have been kicking around for a while? Want to get feedback from peers and meet collaborators and mentors? This group is for YOU! Share your project\, network with other artists\, and see what projects creative people in the Upper Valley are making!\n\nAll Media Maker Members may take turns sharing works in progress. Guests\, collaborators\, and supporters may attend to listen and give feedback.\n\nBecome a member here: https://uvjam.org/media-maker-hub/\n\nEvent info: https://uvjam.org/series/media-maker-monday/
X-ALT-DESC;FMTTYPE=text/html:<p><strong>JAM &ndash\; Junction Arts &amp\; Media welcomes&nbsp\;</strong><a href="https://uvjam.org/media-maker-hub/"><strong>Media Maker Members</strong></a><strong>&nbsp\;and their guests to a work in progress show and tell and peer feedback session. These sessions happen at JAM every 2nd Monday of the month.</strong></p>\n\n<p>Have a screenplay or stage play\, short film rough cut\, documentary project\, podcast in progress\, animation story board\, pitch deck\, or just an idea you have been kicking around for a while? Want to get feedback from peers and meet collaborators and mentors? This group is for YOU! Share your project\, network with other artists\, and see what projects creative people in the Upper Valley are making!</p>\n\n<p>All Media Maker Members may take turns sharing works in progress. Guests\, collaborators\, and supporters may attend to listen and give feedback.</p>\n\n<p>Become a member here: <a href="https://uvjam.org/media-maker-hub/">https://uvjam.org/media-maker-hub/</a></p>\n\n<p>Event info: https://uvjam.org/series/media-maker-monday/</p>\n
LOCATION:5 S. Main Street\, 1st Floor White River Junction\, VT 05001
UID:e.3068.38723
SEQUENCE:3
DTSTAMP:20260422T220944Z
URL:https://visittheuppervalley.uppervalleybusinessalliance.com/events/details/media-maker-monday-at-jam-12-14-2026-38723
END:VEVENT

END:VCALENDAR
