BEGIN:VCALENDAR
VERSION:2.0
PRODID:-//ChamberMaster//Event Calendar 2.0//EN
METHOD:PUBLISH
X-PUBLISHED-TTL:P3D
REFRESH-INTERVAL:P3D
CALSCALE:GREGORIAN
BEGIN:VEVENT
DTSTART:20260623T180000Z
DTEND:20260623T223000Z
X-MICROSOFT-CDO-ALLDAYEVENT:FALSE
SUMMARY:Make Tracks to the Traveling Chocolate Bar Cafe
DESCRIPTION:Come and say hi to Maritza from The Traveling Chocolate Bar Cafe and indulge in artisanal chocolates and caramels\, cinnamon buns\, breads\, and more amazing baked goods\, many of them gluten-free.
X-ALT-DESC;FMTTYPE=text/html:<span style="color:rgb(0\, 0\, 0)\; font-family:rubik\,sans-serif\; font-size:17px">Come and say hi to Maritza from The Traveling Chocolate Bar Cafe and indulge in artisanal chocolates and caramels\, cinnamon buns\, breads\, and more amazing baked goods\, many of them gluten-free.</span>
LOCATION:Sweetland Farm
UID:e.3068.38372
SEQUENCE:3
DTSTAMP:20260420T064101Z
URL:https://visittheuppervalley.uppervalleybusinessalliance.com/events/details/make-tracks-to-the-traveling-chocolate-bar-cafe-06-23-2026-38372
END:VEVENT

END:VCALENDAR
