BEGIN:VCALENDAR
VERSION:2.0
PRODID:-//ChamberMaster//Event Calendar 2.0//EN
METHOD:PUBLISH
X-PUBLISHED-TTL:P3D
REFRESH-INTERVAL:P3D
CALSCALE:GREGORIAN
BEGIN:VEVENT
DTSTART:20230530T150000Z
DTEND:20230530T160000Z
X-MICROSOFT-CDO-ALLDAYEVENT:FALSE
SUMMARY:Little Farmers Preschool Classes
DESCRIPTION:Little Farmers program at Cedar Circle Farm & Education Center in East Thetford - "Roots and Shoots"\n\n\n\nKids ages 2-5 and their grown-ups are invited to join our farm educators Sandi and Wren to explore the farm\, the food we grow\, and the relationships we have with the natural world.\n\n\n\nClasses are 45 minutes long\, held weekly at 10:00 and 11:00 on Tuesdays and Fridays from May to October. When you register\, choose the class time that works best for you!\n\n\n\nRead more about the program and sign up at https://cedarcirclefarm.org/education/littlefarmers
X-ALT-DESC;FMTTYPE=text/html:<span style="color: rgb(66\, 66\, 66)\; font-family: &quot\;Segoe UI&quot\;\, &quot\;Segoe UI Web (West European)&quot\;\, &quot\;Segoe UI&quot\;\, -apple-system\, &quot\;system-ui&quot\;\, Roboto\, &quot\;Helvetica Neue&quot\;\, sans-serif\; font-size: 15px\;">Little Farmers program at Cedar Circle Farm &amp\; Education Center in East Thetford - &ldquo\;Roots and Shoots&rdquo\;</span><br aria-hidden="true" style="color: rgb(66\, 66\, 66)\; font-family: &quot\;Segoe UI&quot\;\, &quot\;Segoe UI Web (West European)&quot\;\, &quot\;Segoe UI&quot\;\, -apple-system\, &quot\;system-ui&quot\;\, Roboto\, &quot\;Helvetica Neue&quot\;\, sans-serif\; font-size: 15px\;" />\n<br aria-hidden="true" style="color: rgb(66\, 66\, 66)\; font-family: &quot\;Segoe UI&quot\;\, &quot\;Segoe UI Web (West European)&quot\;\, &quot\;Segoe UI&quot\;\, -apple-system\, &quot\;system-ui&quot\;\, Roboto\, &quot\;Helvetica Neue&quot\;\, sans-serif\; font-size: 15px\;" />\n<span style="color: rgb(66\, 66\, 66)\; font-family: &quot\;Segoe UI&quot\;\, &quot\;Segoe UI Web (West European)&quot\;\, &quot\;Segoe UI&quot\;\, -apple-system\, &quot\;system-ui&quot\;\, Roboto\, &quot\;Helvetica Neue&quot\;\, sans-serif\; font-size: 15px\;">Kids ages 2-5 and their grown-ups are invited to join our farm educators Sandi and Wren to explore the farm\, the food we grow\, and the relationships we have with the natural world.</span><br aria-hidden="true" style="color: rgb(66\, 66\, 66)\; font-family: &quot\;Segoe UI&quot\;\, &quot\;Segoe UI Web (West European)&quot\;\, &quot\;Segoe UI&quot\;\, -apple-system\, &quot\;system-ui&quot\;\, Roboto\, &quot\;Helvetica Neue&quot\;\, sans-serif\; font-size: 15px\;" />\n<br aria-hidden="true" style="color: rgb(66\, 66\, 66)\; font-family: &quot\;Segoe UI&quot\;\, &quot\;Segoe UI Web (West European)&quot\;\, &quot\;Segoe UI&quot\;\, -apple-system\, &quot\;system-ui&quot\;\, Roboto\, &quot\;Helvetica Neue&quot\;\, sans-serif\; font-size: 15px\;" />\n<span style="color: rgb(66\, 66\, 66)\; font-family: &quot\;Segoe UI&quot\;\, &quot\;Segoe UI Web (West European)&quot\;\, &quot\;Segoe UI&quot\;\, -apple-system\, &quot\;system-ui&quot\;\, Roboto\, &quot\;Helvetica Neue&quot\;\, sans-serif\; font-size: 15px\;">Classes are 45 minutes long\, held weekly at 10:00 and 11:00 on Tuesdays and Fridays from May to October. When you register\, choose the class time that works best for you!</span><br aria-hidden="true" style="color: rgb(66\, 66\, 66)\; font-family: &quot\;Segoe UI&quot\;\, &quot\;Segoe UI Web (West European)&quot\;\, &quot\;Segoe UI&quot\;\, -apple-system\, &quot\;system-ui&quot\;\, Roboto\, &quot\;Helvetica Neue&quot\;\, sans-serif\; font-size: 15px\;" />\n<br aria-hidden="true" style="color: rgb(66\, 66\, 66)\; font-family: &quot\;Segoe UI&quot\;\, &quot\;Segoe UI Web (West European)&quot\;\, &quot\;Segoe UI&quot\;\, -apple-system\, &quot\;system-ui&quot\;\, Roboto\, &quot\;Helvetica Neue&quot\;\, sans-serif\; font-size: 15px\;" />\n<span style="color: rgb(66\, 66\, 66)\; font-family: &quot\;Segoe UI&quot\;\, &quot\;Segoe UI Web (West European)&quot\;\, &quot\;Segoe UI&quot\;\, -apple-system\, &quot\;system-ui&quot\;\, Roboto\, &quot\;Helvetica Neue&quot\;\, sans-serif\; font-size: 15px\;">Read more about the program and sign up at&nbsp\;</span>https://cedarcirclefarm.org/education/littlefarmers
LOCATION:225 Pavillion Road East Thetford\, VT\, 05043
UID:e.3068.17664
SEQUENCE:3
DTSTAMP:20260422T204156Z
URL:https://visittheuppervalley.uppervalleybusinessalliance.com/events/details/little-farmers-preschool-classes-05-30-2023-17664
END:VEVENT

END:VCALENDAR
