BEGIN:VCALENDAR
VERSION:2.0
PRODID:-//ChamberMaster//Event Calendar 2.0//EN
METHOD:PUBLISH
X-PUBLISHED-TTL:P3D
REFRESH-INTERVAL:P3D
CALSCALE:GREGORIAN
BEGIN:VEVENT
DTSTART:20260919T150000Z
DTEND:20260919T180000Z
X-MICROSOFT-CDO-ALLDAYEVENT:FALSE
SUMMARY:LebFest 2026
DESCRIPTION:LebFest 2026\n \n\nSaturday\, September 19\, 2026 at Colburn Park in Lebanon\, NH\n\n11:00 am - 2:00 pm\n\n \n\nA FREE community celebration hosted by the Upper Valley Business Alliance and Lebanon Recreation\, Parks and Arts.\n\n \n\nMusic\, Live Animal Presentation\, Games\, Raffles\, Family Activities\, 3rd Annual Mac & Cheese Competition\, Vendors and Much More!\n\n \n\nFood and drink will be available for purchase.\n\n \n\n\n	Mac & Cheese Competition 11:00 - 1:00 pm (or until samples run out)\n	Live Entertainment 11:00 am - 2:00 pm\n	Booths & Activities 11:00 am - 2:00 pm\n	Food Vendors 11:00 am - 2:00 pm\n	CLICK HERE FOR ALL THE DETAILS\n\n\n\n\nWant to have a booth?\n\n\n\nHosted by Upper Valley Business Alliance and co-hosted by Lebanon Recreation\, Arts\, and Parks\, and our very generous sponsors.
X-ALT-DESC;FMTTYPE=text/html:<h1 class="p1" color:="" helvetica="" style="margin: 0px\; font-variant-numeric: normal\; font-variant-east-asian: normal\; font-stretch: normal\; font-size: 11px\; line-height: normal\;"><strong><span style="font-size:24px\;">LebFest 2026</span></strong></h1>\n&nbsp\;\n\n<h2 class="p1" color:="" helvetica="" style="margin: 0px\; font-variant-numeric: normal\; font-variant-east-asian: normal\; font-variant-alternates: normal\; font-kerning: auto\; font-optical-sizing: auto\; font-feature-settings: normal\; font-variation-settings: normal\; font-stretch: normal\; font-size: 11px\; line-height: normal\; font-family: "><span style="font-size:16px\;">Saturday\, September 19\, 2026&nbsp\;at Colburn Park in Lebanon\, NH</span></h2>\n\n<p class="p1" color:="" helvetica="" style="margin: 0px\; font-variant-numeric: normal\; font-variant-east-asian: normal\; font-variant-alternates: normal\; font-kerning: auto\; font-optical-sizing: auto\; font-feature-settings: normal\; font-variation-settings: normal\; font-stretch: normal\; font-size: 11px\; line-height: normal\; font-family: "><span style="font-size:16px\;">11:00 am - 2:00 pm</span></p>\n\n<p class="p2" color:="" helvetica="" min-height:="" style="margin: 0px\; font-variant-numeric: normal\; font-variant-east-asian: normal\; font-variant-alternates: normal\; font-kerning: auto\; font-optical-sizing: auto\; font-feature-settings: normal\; font-variation-settings: normal\; font-stretch: normal\; font-size: 11px\; line-height: normal\; font-family: ">&nbsp\;</p>\n\n<p class="p1" color:="" helvetica="" style="margin: 0px\; font-variant-numeric: normal\; font-variant-east-asian: normal\; font-variant-alternates: normal\; font-kerning: auto\; font-optical-sizing: auto\; font-feature-settings: normal\; font-variation-settings: normal\; font-stretch: normal\; font-size: 11px\; line-height: normal\; font-family: "><span style="font-size:14px\;">A FREE community celebration hosted by the Upper Valley Business Alliance and Lebanon Recreation\, Parks and Arts.</span></p>\n\n<p class="p2" color:="" helvetica="" min-height:="" style="margin: 0px\; font-variant-numeric: normal\; font-variant-east-asian: normal\; font-variant-alternates: normal\; font-kerning: auto\; font-optical-sizing: auto\; font-feature-settings: normal\; font-variation-settings: normal\; font-stretch: normal\; font-size: 11px\; line-height: normal\; font-family: ">&nbsp\;</p>\n\n<p class="p1" color:="" helvetica="" style="margin: 0px\; font-variant-numeric: normal\; font-variant-east-asian: normal\; font-variant-alternates: normal\; font-kerning: auto\; font-optical-sizing: auto\; font-feature-settings: normal\; font-variation-settings: normal\; font-stretch: normal\; font-size: 11px\; line-height: normal\; font-family: "><span style="font-size:14px\;">Music\, Live Animal Presentation\, Games\, Raffles\, Family Activities\, 3rd Annual Mac &amp\; Cheese Competition\, Vendors and Much More!</span></p>\n\n<p class="p2" color:="" helvetica="" min-height:="" style="margin: 0px\; font-variant-numeric: normal\; font-variant-east-asian: normal\; font-variant-alternates: normal\; font-kerning: auto\; font-optical-sizing: auto\; font-feature-settings: normal\; font-variation-settings: normal\; font-stretch: normal\; font-size: 11px\; line-height: normal\; font-family: ">&nbsp\;</p>\n\n<p class="p1" color:="" helvetica="" style="margin: 0px\; font-variant-numeric: normal\; font-variant-east-asian: normal\; font-variant-alternates: normal\; font-kerning: auto\; font-optical-sizing: auto\; font-feature-settings: normal\; font-variation-settings: normal\; font-stretch: normal\; font-size: 11px\; line-height: normal\; font-family: "><span style="font-size:14px\;">Food and drink will be available for purchase.</span></p>\n\n<p class="p2" color:="" helvetica="" min-height:="" style="margin: 0px\; font-variant-numeric: normal\; font-variant-east-asian: normal\; font-variant-alternates: normal\; font-kerning: auto\; font-optical-sizing: auto\; font-feature-settings: normal\; font-variation-settings: normal\; font-stretch: normal\; font-size: 11px\; line-height: normal\; font-family: ">&nbsp\;</p>\n\n<ul>\n	<li class="p1" color:="" helvetica="" style="margin: 0px\; font-variant-numeric: normal\; font-variant-east-asian: normal\; font-variant-alternates: normal\; font-kerning: auto\; font-optical-sizing: auto\; font-feature-settings: normal\; font-variation-settings: normal\; font-stretch: normal\; font-size: 11px\; line-height: normal\; font-family: "><span style="font-size:14px\;"><strong>Mac &amp\; Cheese Competition 11:00 - 1:00 pm (or until samples run out)</strong></span></li>\n	<li class="p1" color:="" helvetica="" style="margin: 0px\; font-variant-numeric: normal\; font-variant-east-asian: normal\; font-variant-alternates: normal\; font-kerning: auto\; font-optical-sizing: auto\; font-feature-settings: normal\; font-variation-settings: normal\; font-stretch: normal\; font-size: 11px\; line-height: normal\; font-family: "><span style="font-size:14px\;"><strong>Live Entertainment 11:00 am - 2:00 pm</strong></span></li>\n	<li class="p1" color:="" helvetica="" style="margin: 0px\; font-variant-numeric: normal\; font-variant-east-asian: normal\; font-variant-alternates: normal\; font-kerning: auto\; font-optical-sizing: auto\; font-feature-settings: normal\; font-variation-settings: normal\; font-stretch: normal\; font-size: 11px\; line-height: normal\; font-family: "><span style="font-size:14px\;"><strong>Booths &amp\; Activities 11:00 am - 2:00 pm</strong></span></li>\n	<li class="p1" color:="" helvetica="" style="margin: 0px\; font-variant-numeric: normal\; font-variant-east-asian: normal\; font-variant-alternates: normal\; font-kerning: auto\; font-optical-sizing: auto\; font-feature-settings: normal\; font-variation-settings: normal\; font-stretch: normal\; font-size: 11px\; line-height: normal\; font-family: "><span style="font-size:14px\;"><span class="s1" style="font-variant-numeric: normal\; font-variant-east-asian: normal\; font-variant-alternates: normal\; font-kerning: auto\; font-optical-sizing: auto\; font-feature-settings: normal\; font-variation-settings: normal\; font-stretch: normal\; line-height: normal\; font-family: Helvetica\;"><strong>Food Vendors 11:00 am - 2:00 pm</strong></span></span></li>\n	<li class="p1" color:="" helvetica="" style="margin: 0px\; font-variant-numeric: normal\; font-variant-east-asian: normal\; font-variant-alternates: normal\; font-kerning: auto\; font-optical-sizing: auto\; font-feature-settings: normal\; font-variation-settings: normal\; font-stretch: normal\; font-size: 11px\; line-height: normal\; font-family: "><a href="https://www.uppervalleybusinessalliance.com/lebfest-2023/" target="_blank"><span style="font-size:14px\;"><span class="s1" style="font-variant-numeric: normal\; font-variant-east-asian: normal\; font-variant-alternates: normal\; font-kerning: auto\; font-optical-sizing: auto\; font-feature-settings: normal\; font-variation-settings: normal\; font-stretch: normal\; line-height: normal\; font-family: Helvetica\;"><strong>CLICK HERE FOR ALL THE DETAILS</strong></span></span></a></li>\n</ul>\n\n<p class="p1" color:="" helvetica="" style="margin: 0px\; font-variant-numeric: normal\; font-variant-east-asian: normal\; font-variant-alternates: normal\; font-kerning: auto\; font-optical-sizing: auto\; font-feature-settings: normal\; font-variation-settings: normal\; font-stretch: normal\; font-size: 11px\; line-height: normal\; font-family: "><br />\n<a href="https://form.jotform.com/UVBA/lebfest-2024-booth-application" onclick="window.open(this.href\, ''\, 'resizable=yes\,status=no\,location=no\,toolbar=no\,menubar=no\,fullscreen=no\,scrollbars=yes\,dependent=no')\; return false\;"><span style="font-size:18px\;"><strong>Want to have a booth?</strong></span></a><br />\n<br />\n<span style="font-size:14px\;">Hosted by Upper Valley Business Alliance and co-hosted by Lebanon Recreation\, Arts\, and Parks\, and our very generous sponsors.</span></p>\n
LOCATION:Colburn Park 51 North Park St. Lebanon\, NH 03766
UID:e.3068.37472
SEQUENCE:3
DTSTAMP:20260422T171514Z
URL:https://visittheuppervalley.uppervalleybusinessalliance.com/events/details/lebfest-2026-37472
END:VEVENT

END:VCALENDAR
