BEGIN:VCALENDAR
VERSION:2.0
PRODID:-//ChamberMaster//Event Calendar 2.0//EN
METHOD:PUBLISH
X-PUBLISHED-TTL:P3D
REFRESH-INTERVAL:P3D
CALSCALE:GREGORIAN
BEGIN:VEVENT
DTSTART:20260427T210000Z
DTEND:20260427T223000Z
X-MICROSOFT-CDO-ALLDAYEVENT:FALSE
SUMMARY:Leadership in Turbulent Times: A Conversation with General James Mattis
DESCRIPTION:Join us at the Dickey Center at Dartmouth College for Leadership in Turbulent Times a conversation with General James Mattis\, U.S. Marine Corps (Ret.) and 26th Secretary of Defense. General Mattis is hosted by the Davidson Institute for Global Security at the Dickey Center and is the Center's Class of 1950 Senior Foreign Affairs Speaker.  Over a 43-year Marine Corps Career\, General Mattis led major operations in Kuwait\, Afghanistan\, and Iraq\, and later served as NATO's Supreme Allied Commander for Transformation and head of U.S. Central Command. After retiring in 2013\, he became the Hoover Institution's Davies Family Distinguished Fellow\, served as 26th Secretary of Defense from 2017 to 2019\, and continues his work at the Hoover Institution today.   The General will be in discussion with Victoria K. Holt\, Norman E. McCulloch Jr. Director of the John Sloan Dickey Center for International Understanding\; and Daryl Press\, Professor of Government and Faculty Director for the Davidson Institute for Global Security. General Mattis will draw on more than four decades in uniform--from commanding a 40-man infantry platoon to directing operations of over 250\,000 personnel across the Middle East--as well as service as the Secretary of Defense. The conversation will explore the importance of leadership at all levels\, while assessing the current state of foreign affairs.  Monday\, April 27th 5pm Hanover Inn Ballroom Free and open to the public - Tickets required\, reserve yours here: https://www.eventbrite.com/e/1983367245823?aff=oddtdtcreator This is an in-person event only.  More information here: https://home.dartmouth.edu/events/event?event=80694&begin=2026-04-27&offset=0&limit=10 Hosted by The John Sloan Dickey Center for International Understanding at Dartmouth College
X-ALT-DESC;FMTTYPE=text/html:Join us at the&nbsp\;Dickey Center&nbsp\;at&nbsp\;Dartmouth&nbsp\;College&nbsp\;for&nbsp\;Leadership in Turbulent Times&nbsp\;a conversation with&nbsp\;General James Mattis\, U.S. Marine Corps (Ret.) and 26th Secretary of Defense. General Mattis is hosted by the Davidson Institute for Global Security at the Dickey Center and is the Center&#39\;s Class of 1950 Senior Foreign Affairs Speaker.&nbsp\; Over a 43-year Marine Corps Career\, General Mattis led major operations in Kuwait\, Afghanistan\, and Iraq\, and later served as NATO&#39\;s Supreme Allied Commander for Transformation and head of U.S. Central Command. After retiring in 2013\,&nbsp\;he became the Hoover Institution&rsquo\;s Davies Family Distinguished Fellow\, served as 26th Secretary of Defense from 2017 to 2019\, and continues his work at the Hoover Institution today.&nbsp\;&nbsp\; The General will be in discussion with&nbsp\;Victoria K. Holt\, Norman E. McCulloch Jr. Director of the John Sloan Dickey Center for International Understanding\; and&nbsp\;Daryl Press\, Professor of Government and Faculty Director for the Davidson Institute for Global Security. General Mattis will draw on more than four decades in uniform--from commanding a 40-man infantry platoon to directing operations of over 250\,000 personnel across the Middle East--as well as service as the Secretary of Defense. The conversation will explore the importance of leadership at all levels\, while assessing the current state of foreign affairs.&nbsp\; Monday\, April 27th 5pm Hanover Inn Ballroom Free and open to the public - Tickets required\, reserve yours&nbsp\;here: https://www.eventbrite.com/e/1983367245823?aff=oddtdtcreator This is an in-person event only.&nbsp\; More information&nbsp\;here: https://home.dartmouth.edu/events/event?event=80694&amp\;begin=2026-04-27&amp\;offset=0&amp\;limit=10 Hosted by&nbsp\;The John Sloan Dickey Center for International&nbsp\;Understanding&nbsp\;at Dartmouth College
LOCATION:Hanover Inn Ballroom
UID:e.3068.38696
SEQUENCE:3
DTSTAMP:20260420T000543Z
URL:https://visittheuppervalley.uppervalleybusinessalliance.com/events/details/leadership-in-turbulent-times-a-conversation-with-general-james-mattis-38696
END:VEVENT

END:VCALENDAR
