BEGIN:VCALENDAR
VERSION:2.0
PRODID:-//ChamberMaster//Event Calendar 2.0//EN
METHOD:PUBLISH
X-PUBLISHED-TTL:P3D
REFRESH-INTERVAL:P3D
CALSCALE:GREGORIAN
BEGIN:VEVENT
DTSTART:20260514T220000Z
DTEND:20260514T233000Z
X-MICROSOFT-CDO-ALLDAYEVENT:FALSE
SUMMARY:Lampshade Poets Open Mic
DESCRIPTION:Open to all Lampshaders as well as any poet who is interested in reading an original piece or two. Poets have the opportunity to be videoed for JAM   Junction Arts & Media's community access station and YouTube channel if they wish. Please RSVP on JAM's website.\n\nhttps://uvjam.org/event/lampshade-poets-open-mic-8/2026-05-14/
X-ALT-DESC;FMTTYPE=text/html:<p>Open to all Lampshaders as well as any poet who is interested in reading an original piece or two. Poets have the opportunity to be videoed for JAM &ndash\; Junction Arts &amp\; Media&rsquo\;s community access station and YouTube channel if they wish. Please RSVP on JAM&rsquo\;s website.<br />\n<a href="https://uvjam.org/event/lampshade-poets-open-mic-8/2026-05-14/">https://uvjam.org/event/lampshade-poets-open-mic-8/2026-05-14/</a></p>\n
LOCATION:5 S. Main Street\, 1st Floor White River Junction\, VT 05001
UID:e.3068.38715
SEQUENCE:3
DTSTAMP:20260424T224751Z
URL:https://visittheuppervalley.uppervalleybusinessalliance.com/events/details/lampshade-poets-open-mic-05-14-2026-38715
END:VEVENT

END:VCALENDAR
