BEGIN:VCALENDAR
VERSION:2.0
PRODID:-//ChamberMaster//Event Calendar 2.0//EN
METHOD:PUBLISH
X-PUBLISHED-TTL:P3D
REFRESH-INTERVAL:P3D
CALSCALE:GREGORIAN
BEGIN:VEVENT
DTSTART;VALUE=DATE:20260521
DTEND;VALUE=DATE:20260522
TRANSP:TRANSPARENT
X-MICROSOFT-CDO-ALLDAYEVENT:TRUE
SUMMARY:Kids Eat Free at The Baited Hook
DESCRIPTION:Kids Eat Free on Thursdays at The Baited Hook at Mascoma Lake!  Let's face it\, the week can be long as a parent.  By Thursday we are ready for the weekend and a night off from cooking.  Bring the kids to The Hook and receive one free kid's meal with every purchase of sandwich or dinner platter.  Let us take the stress of meal prep off your hands\, and you can enjoy some quality time as a family. Play some chess\, Uno or checkers while we cook for you.
X-ALT-DESC;FMTTYPE=text/html:Kids Eat Free on Thursdays at The Baited Hook at Mascoma Lake!&nbsp\; Let&#39\;s face it\, the week can be long as a parent.&nbsp\; By Thursday we are ready for the weekend and a night off from cooking.&nbsp\; Bring the kids to The Hook and receive one free kid&#39\;s meal with every purchase of sandwich or dinner platter.&nbsp\; Let us take the stress of meal prep off your hands\, and you can enjoy some quality time as a family. Play some chess\, Uno or checkers while we cook for you.&nbsp\;&nbsp\;
LOCATION:The Baited Hook at Mascoma Lake 83 NH Rte 4A Lebanon\, NH 03766
UID:e.3068.37893
SEQUENCE:3
DTSTAMP:20260420T033134Z
URL:https://visittheuppervalley.uppervalleybusinessalliance.com/events/details/kids-eat-free-at-the-baited-hook-05-21-2026-37893
END:VEVENT

END:VCALENDAR
