BEGIN:VCALENDAR
VERSION:2.0
PRODID:-//ChamberMaster//Event Calendar 2.0//EN
METHOD:PUBLISH
X-PUBLISHED-TTL:P3D
REFRESH-INTERVAL:P3D
CALSCALE:GREGORIAN
BEGIN:VEVENT
DTSTART:20260509T140000Z
DTEND:20260509T160000Z
X-MICROSOFT-CDO-ALLDAYEVENT:FALSE
SUMMARY:Kid's Gardening Day
DESCRIPTION:Bring the whole family for a day of hands-on fun! Kids can enjoy an in-store scavenger hunt (complete it and get a lollipop!)\, a free bean plant activity\, and a $5 decorate-a-pot workshop where they can plant flower seeds for Mom. See our baby chicks up close\, explore kids' gardening tools and gear on sale\, and parents can grab a one-day-only coupon on garden supplies. A perfect way to spark curiosity\, creativity\, and a love for gardening in the little ones!
X-ALT-DESC;FMTTYPE=text/html:Bring the whole family for a day of hands-on fun! Kids can enjoy an in-store scavenger hunt (complete it and get a lollipop!)\, a free bean plant activity\, and a $5 decorate-a-pot workshop where they can plant flower seeds for Mom. See our baby chicks up close\, explore kids&rsquo\; gardening tools and gear on sale\, and parents can grab a one-day-only coupon on garden supplies. A perfect way to spark curiosity\, creativity\, and a love for gardening in the little ones!
LOCATION:West Lebanon Feed & Supply\, 12 Railroad Avenue\, West Lebanon\, NH 03784
UID:e.3068.38494
SEQUENCE:3
DTSTAMP:20260420T015830Z
URL:https://visittheuppervalley.uppervalleybusinessalliance.com/events/details/kid-s-gardening-day-38494
END:VEVENT

END:VCALENDAR
