BEGIN:VCALENDAR
VERSION:2.0
PRODID:-//ChamberMaster//Event Calendar 2.0//EN
METHOD:PUBLISH
X-PUBLISHED-TTL:P3D
REFRESH-INTERVAL:P3D
CALSCALE:GREGORIAN
BEGIN:VEVENT
DTSTART:20260429T120000Z
DTEND:20260429T170000Z
X-MICROSOFT-CDO-ALLDAYEVENT:FALSE
SUMMARY:Job Shadow Day 2026
DESCRIPTION:JOB SHADOW DAY\n\nUpper Valley Business Alliance in partnership with Lebanon Middle School\n\n \n\nUVBA & Lebanon Middle School are partnering to bring back Job Shadow Day! It may seem like an early start\, but exposing 8th Graders to the variety of job opportunities the Upper Valley has to offer can influence what extracurriculars they consider as they enter high school. It also allows us to showcase the Upper Valley as a place people can have a successful career\, as opposed to feeling the need to leave the region to pursue higher education and a viable career path.\n\n \n\nAny type of business can participate and are encouraged to host multiple students across different sectors of their business. A chaperone accompanies each group and LMS is coordinating transportation to and from each site. \n\n \n\nWhat else do I need to know?\n\nJob Shadow Day is held on:\n\nApril 29\, 2026\n\n8am   1pm\n\n \n\n	Transportation for students is provided to and from your office or facility.\n	Let us know if you plan to provide lunch or not   this is optional\n	You can host as many or as few students as you feel comfortable with. Some suggestions you might consider:\n\n\n\n	Take them on a tour of your office/workshop/facility\n	Rotate through different departments\n	Allow them to shadow someone \n	Offer an activity they can try to get their hands on something practical related to your business
X-ALT-DESC;FMTTYPE=text/html:<strong><span style="font-family:calibri\,sans-serif\;"><span style="font-size:18.0pt\;">JOB SHADOW DAY</span></span></strong><br />\n<strong><span style="font-family:calibri\,sans-serif\;"><span style="font-size:11.0pt\;">Upper Valley Business Alliance in partnership with Lebanon Middle School</span></span></strong><br />\n&nbsp\;<br />\n<span style="font-family:calibri\,sans-serif\;"><span style="font-size:10.0pt\;">UVBA &amp\; Lebanon Middle School are partnering to bring back Job Shadow Day! It may seem like an early start\, but exposing 8th Graders to the variety of job opportunities the Upper Valley has to offer can influence what extracurriculars they consider as they enter high school. It also allows us to showcase the Upper Valley as a place people can have a successful career\, as opposed to feeling the need to leave the region to pursue higher education and a viable career path.</span></span><br />\n&nbsp\;<br />\n<span style="font-family:calibri\,sans-serif\;"><span style="font-size:10.0pt\;">Any type of business can participate and are encouraged to host multiple students across different sectors of their business. A chaperone accompanies each group and LMS is coordinating transportation to and from each site. </span></span><br />\n&nbsp\;<br />\n<strong><span style="font-family:calibri\,sans-serif\;"><span style="font-size:10.0pt\;">What else do I need to know?</span></span></strong><br />\n<span style="font-family:calibri\,sans-serif\;"><span style="font-size:10.0pt\;">Job Shadow Day is held on:</span></span><br />\n<strong><span style="font-family:calibri\,sans-serif\;"><span style="font-size:10.0pt\;">April 29\, 2026</span></span></strong><br />\n<strong><span style="font-family:calibri\,sans-serif\;"><span style="font-size:10.0pt\;">8am &ndash\; 1pm</span></span></strong><br />\n&nbsp\;\n<ul>\n	<li style="margin-top:0in\;margin-right:-.25in\;margin-bottom:0in\;"><span style="font-family:calibri\,sans-serif\;"><span style="font-size:10.0pt\;">Transportation for students is provided to and from your office or facility.</span></span></li>\n	<li style="margin-top:0in\;margin-right:-.25in\;margin-bottom:0in\;"><span style="font-family:calibri\,sans-serif\;"><span style="font-size:10.0pt\;">Let us know if you plan to provide lunch or not &ndash\; this is optional</span></span></li>\n	<li style="margin-top:0in\;margin-right:-.25in\;margin-bottom:0in\;"><span style="font-family:calibri\,sans-serif\;"><span style="font-size:10.0pt\;">You can host as many or as few students as you feel comfortable with. Some suggestions you might consider:</span></span></li>\n</ul>\n\n<ul style="list-style-type:circle\;">\n	<li style="margin-top:0in\;margin-right:-.25in\;margin-bottom:0in\;"><span style="font-family:calibri\,sans-serif\;"><span style="font-size:10.0pt\;">Take them on a tour of your office/workshop/facility</span></span></li>\n	<li style="margin-top:0in\;margin-right:-.25in\;margin-bottom:0in\;"><span style="font-family:calibri\,sans-serif\;"><span style="font-size:10.0pt\;">Rotate through different departments</span></span></li>\n	<li style="margin-top:0in\;margin-right:-.25in\;margin-bottom:0in\;"><span style="font-family:calibri\,sans-serif\;"><span style="font-size:10.0pt\;">Allow them to shadow someone </span></span></li>\n	<li style="margin-top:0in\;margin-right:-.25in\;margin-bottom:0in\;"><span style="font-family:calibri\,sans-serif\;"><span style="font-size:10.0pt\;">Offer an activity they can try to get their hands on something practical related to your business</span></span></li>\n</ul>\n
LOCATION:
UID:e.3068.38402
SEQUENCE:3
DTSTAMP:20260425T122530Z
URL:https://visittheuppervalley.uppervalleybusinessalliance.com/events/details/job-shadow-day-2026-38402
END:VEVENT

END:VCALENDAR
