BEGIN:VCALENDAR
VERSION:2.0
PRODID:-//ChamberMaster//Event Calendar 2.0//EN
METHOD:PUBLISH
X-PUBLISHED-TTL:P3D
REFRESH-INTERVAL:P3D
CALSCALE:GREGORIAN
BEGIN:VEVENT
DTSTART:20260515T210000Z
DTEND:20260518T000000Z
X-MICROSOFT-CDO-ALLDAYEVENT:FALSE
SUMMARY:JAM’s 48 Hour Film Slam
DESCRIPTION:Want to make a film but having trouble starting? JAM's 48 hour film slam may be just the kick in the pants you need! ???Write\, shoot\, and edit a short film in just 48 hours (Friday 5/15 - Sunday 5/17) and maybe win a ca$h prize!\n\nRules:\n\n\n	Register to participate by Friday 5/15 4:59PM\n	Attend our launch meeting on Friday 5/15 5PM to receive the prompt and film requirements\n	Start shooting!\n	Films are due on Sunday 5/17 6PM\, where they will be screened at JAM!\n\n\nhttps://uvjam.org/film-competitions/48-hour-film-slam-2026/
X-ALT-DESC;FMTTYPE=text/html:<p>Want to make a film but having trouble starting? JAM&rsquo\;s 48 hour film slam may be just the kick in the pants you need! ???Write\, shoot\, and edit a short film in just 48 hours (Friday 5/15 - Sunday 5/17) and maybe win a ca$h prize!</p>\n\n<p>Rules:</p>\n\n<ol>\n	<li>Register to participate by Friday 5/15 4:59PM</li>\n	<li>Attend our launch meeting on Friday 5/15 5PM to receive the prompt and film requirements</li>\n	<li>Start shooting!</li>\n	<li>Films are due on Sunday 5/17 6PM\, where they will be screened at JAM!</li>\n</ol>\n\n<p>https://uvjam.org/film-competitions/48-hour-film-slam-2026/</p>\n
LOCATION:5 S. Main Street\, 1st Floor White River Junction\, VT 05001
UID:e.3068.38714
SEQUENCE:3
DTSTAMP:20260420T230531Z
URL:https://visittheuppervalley.uppervalleybusinessalliance.com/events/details/jam-s-48-hour-film-slam-38714
END:VEVENT

END:VCALENDAR
