BEGIN:VCALENDAR
VERSION:2.0
PRODID:-//ChamberMaster//Event Calendar 2.0//EN
METHOD:PUBLISH
X-PUBLISHED-TTL:P3D
REFRESH-INTERVAL:P3D
CALSCALE:GREGORIAN
BEGIN:VEVENT
DTSTART:20260412T130000Z
DTEND:20260412T170000Z
X-MICROSOFT-CDO-ALLDAYEVENT:FALSE
SUMMARY:Icebreaker 5 Mile Run and Kid's Fun Run at Lake Morey Resort
DESCRIPTION:Icebreaker 5 Mile Run and Kid's Fun Run\n\nSun 04/12 9am\n\n\nOpen to the Public. Join us at beautiful Lake Morey for a classic lake loop 5-miler and 1-mile kid's fun run!\n\n\n	The 5-mile course circumnavigates the lake on a rolling\, scenic route.\n	The 1-mile kid's fun run is a flat loop around a portion of our golf course.\n	Registration\, start and finish lines\, and post-race food are all at the Lake Morey Resort.\n	Lodging is also available at a discounted rate for registered runners. \n\n\n\nRegistration
X-ALT-DESC;FMTTYPE=text/html:<h1 style="text-align:center">Icebreaker 5 Mile Run and Kid&#39\;s Fun Run</h1>\n\n<div style="text-align:center">Sun&nbsp\;04/12&nbsp\;<small>9am</small></div>\n\n<div>\n<p>Open to the Public. Join us at beautiful Lake Morey for a classic lake loop 5-miler and 1-mile kid&#39\;s fun run!</p>\n\n<ul>\n	<li>The 5-mile course circumnavigates the lake on a rolling\, scenic route.</li>\n	<li>The 1-mile kid&#39\;s fun run is a flat loop around a portion of our golf course.</li>\n	<li>Registration\, start and finish lines\, and post-race food are all at the Lake Morey Resort.</li>\n	<li>Lodging is also available at a discounted rate for registered runners.&nbsp\;</li>\n</ul>\n</div>\n\n<div><a class="btn btn-primary" href="https://www.lakemoreyresort.com/icebreaker" style="box-sizing: border-box\; background: rgb(0\, 68\, 106)\; display: inline-block\; margin-bottom: 0px\; font-weight: 800\; text-align: center\; text-wrap: nowrap\; vertical-align: middle\; touch-action: manipulation\; cursor: pointer\; border: none\; padding: 14px 40px\; font-size: 20px\; line-height: 23px\; border-radius: 15px\; user-select: none\; appearance: none\; outline: none\; box-shadow: none\; color: rgb(255\, 255\, 255) !important\; text-decoration-line: none !important\;" target="_blank">Registration&nbsp\;</a></div>\n\n<div style="text-align:center">&nbsp\;</div>\n\n<div>&nbsp\;</div>\n
LOCATION:Lake Morey Resort 82 Clubhouse Rd Fairlee\, Vermont 05045
UID:e.3068.37801
SEQUENCE:3
DTSTAMP:20260420T020758Z
URL:https://visittheuppervalley.uppervalleybusinessalliance.com/events/details/icebreaker-5-mile-run-and-kid-s-fun-run-at-lake-morey-resort-37801
END:VEVENT

END:VCALENDAR
