BEGIN:VCALENDAR
VERSION:2.0
PRODID:-//ChamberMaster//Event Calendar 2.0//EN
METHOD:PUBLISH
X-PUBLISHED-TTL:P3D
REFRESH-INTERVAL:P3D
CALSCALE:GREGORIAN
BEGIN:VEVENT
DTSTART:20250716T203000Z
DTEND:20250716T223000Z
X-MICROSOFT-CDO-ALLDAYEVENT:FALSE
SUMMARY:HP Roofing hosts Joint Business After Hours
DESCRIPTION:Get ready to mix & mingle at a Joint Business After Hours for Upper Valley Business Alliance & Greater Claremont Chamber of Commerce with a PARKING LOT PARTY hosted by HP Roofing featuring catering by Blood's Catering\, great conversation\, door prizes\, LIVE MUSIC\, and more!
X-ALT-DESC;FMTTYPE=text/html:Get ready to mix &amp\; mingle at a Joint Business After Hours for Upper Valley Business Alliance &amp\; Greater Claremont Chamber of Commerce with a PARKING LOT PARTY hosted by HP Roofing featuring catering by Blood&#39\;s Catering\, great conversation\, door prizes\, LIVE MUSIC\, and more!
LOCATION:HP Roofing 1328 N Hartland Rd Hartford/White River Junction\, VT
UID:e.3068.37167
SEQUENCE:3
DTSTAMP:20260421T095706Z
URL:https://visittheuppervalley.uppervalleybusinessalliance.com/events/details/hp-roofing-hosts-joint-business-after-hours-37167
END:VEVENT

END:VCALENDAR
