BEGIN:VCALENDAR
VERSION:2.0
PRODID:-//ChamberMaster//Event Calendar 2.0//EN
METHOD:PUBLISH
X-PUBLISHED-TTL:P3D
REFRESH-INTERVAL:P3D
CALSCALE:GREGORIAN
BEGIN:VEVENT
DTSTART:20260523T150000Z
DTEND:20260523T160000Z
X-MICROSOFT-CDO-ALLDAYEVENT:FALSE
SUMMARY:HopStop Family Show: Mister Chris & Friends
DESCRIPTION:Sing\, dance and clap along!\n\n\nRegional Emmy award winners and stars of the Vermont PBS take to the stage in this fun family concert. Chris Dorman (Mister Chris) and his collaborators share classic and original kids' songs. \n\nCheck out episodes from Seasons 1 and 2 of Mister Chris and Friends on Vermont PBS or YouTube. \n\nThis program is a great fit for ages 3-8 and families.
X-ALT-DESC;FMTTYPE=text/html:<h3>Sing\, dance and clap along!</h3>\n\n<div>\n<p>Regional Emmy award winners and stars of the Vermont PBS take to the stage in this fun family concert. Chris Dorman (Mister Chris) and his collaborators share classic and original kids&#39\; songs.&nbsp\;</p>\n\n<p>Check out episodes from Seasons 1 and 2 of&nbsp\;<em>Mister Chris and Friends</em>&nbsp\;on&nbsp\;<a href="https://vermontpbs.org/misterchris" style="box-sizing: border-box\; color: rgb(0\, 0\, 0)\; font-synthesis: none !important\;">Vermont PBS</a>&nbsp\;or&nbsp\;<a href="https://www.youtube.com/channel/UCpKdaJ7UgatnRUG6JHTS-fA" style="box-sizing: border-box\; color: rgb(0\, 0\, 0)\; font-synthesis: none !important\;">YouTube</a>.&nbsp\;</p>\n\n<p>This program is a great fit for ages 3-8 and families.&nbsp\;</p>\n</div>\n
LOCATION:Hopkins Center Top of the Hop 4 East Wheelock Street Hanover\, NH Second Floor
UID:e.3068.37311
SEQUENCE:3
DTSTAMP:20260419T210820Z
URL:https://visittheuppervalley.uppervalleybusinessalliance.com/events/details/hopstop-family-show-mister-chris-friends-37311
END:VEVENT

END:VCALENDAR
