BEGIN:VCALENDAR
VERSION:2.0
PRODID:-//ChamberMaster//Event Calendar 2.0//EN
METHOD:PUBLISH
X-PUBLISHED-TTL:P3D
REFRESH-INTERVAL:P3D
CALSCALE:GREGORIAN
BEGIN:VEVENT
DTSTART:20260418T150000Z
DTEND:20260418T160000Z
X-MICROSOFT-CDO-ALLDAYEVENT:FALSE
SUMMARY:HopStop Family Show: Lindsay and her Puppet Pals
DESCRIPTION:Wholesome\, Heartfelt\, Hilarious!\n\n\nCome and enjoy a funny\, fast-paced and highly interactive variety show which delights the young and the young at heart. You will meet several larger-than-life\, hand-crafted puppets. Perhaps you'll meet a goofy moose\, a heroic tiger or a lovable bear. Maybe a dancing robot or flamingo\, an adorable mouse\, a stubborn goat\, a shy dragon\, or a singing dinosaur. Discover who will join us this time!\n\nLindsay Aucella has been performing full-time since 2011\, presenting to several thousand children each year. Through animated storytelling and thoughtful messaging\, she hopes to inspire creative play\, resilience and empathy in even the youngest. She also believes shared joy and laughter strengthen communities.\n\nThis program is a great fit for ages 3-8 and families.
X-ALT-DESC;FMTTYPE=text/html:<h3>Wholesome\, Heartfelt\, Hilarious!</h3>\n\n<div>\n<p>Come and enjoy a funny\, fast-paced and highly interactive variety show which delights the young and the young at heart. You will meet several larger-than-life\, hand-crafted puppets. Perhaps you&#39\;ll meet a goofy moose\, a heroic tiger or a lovable bear. Maybe a dancing robot or flamingo\, an adorable mouse\, a stubborn goat\, a shy dragon\, or a singing dinosaur. Discover who will join us this time!</p>\n\n<p>Lindsay Aucella has been performing full-time since 2011\, presenting to several thousand children each year. Through animated storytelling and thoughtful messaging\, she hopes to inspire creative play\, resilience and empathy in even the youngest. She also believes shared joy and laughter strengthen communities.</p>\n\n<p>This program is a great fit for ages 3-8 and families.</p>\n</div>\n
LOCATION:Daryl Roth Studio Theater 4 East Wheelock Street Hanover\, NH 03755
UID:e.3068.37310
SEQUENCE:3
DTSTAMP:20260419T194325Z
URL:https://visittheuppervalley.uppervalleybusinessalliance.com/events/details/hopstop-family-show-lindsay-and-her-puppet-pals-37310
END:VEVENT

END:VCALENDAR
