BEGIN:VCALENDAR
VERSION:2.0
PRODID:-//ChamberMaster//Event Calendar 2.0//EN
METHOD:PUBLISH
X-PUBLISHED-TTL:P3D
REFRESH-INTERVAL:P3D
CALSCALE:GREGORIAN
BEGIN:VEVENT
DTSTART:20260509T220000Z
DTEND:20260510T000000Z
X-MICROSOFT-CDO-ALLDAYEVENT:FALSE
SUMMARY:Galaxy Campers Paint and Sip
DESCRIPTION:Come paint with us on Saturday May 9th 6pm at The Main Street Museum in White River Junction\, Vermont. Downstairs in Studio 5. $30 per painter with materials includes plus step by step instruction. There's a template to trace for this one or feel free to freehand it.  BYOB. Registration required  https://thewanderingpaintbrush.com/events
X-ALT-DESC;FMTTYPE=text/html:Come paint with us on Saturday May 9th 6pm at The Main Street Museum in White River Junction\, Vermont. Downstairs in Studio 5. $30 per painter with materials includes plus step by step instruction. There&#39\;s a template to trace for this one or feel free to freehand it.&nbsp\; BYOB. Registration required&nbsp\;&nbsp\;https://thewanderingpaintbrush.com/events
LOCATION:The Main Street Museum - downstairs Studio 5 58 Bridge Street White River Junction\, Vermont
UID:e.3068.38724
SEQUENCE:3
DTSTAMP:20260422T142547Z
URL:https://visittheuppervalley.uppervalleybusinessalliance.com/events/details/galaxy-campers-paint-and-sip-38724
END:VEVENT

END:VCALENDAR
