BEGIN:VCALENDAR
VERSION:2.0
PRODID:-//ChamberMaster//Event Calendar 2.0//EN
METHOD:PUBLISH
X-PUBLISHED-TTL:P3D
REFRESH-INTERVAL:P3D
CALSCALE:GREGORIAN
BEGIN:VEVENT
DTSTART;VALUE=DATE:20260422
DTEND;VALUE=DATE:20260423
TRANSP:TRANSPARENT
X-MICROSOFT-CDO-ALLDAYEVENT:TRUE
SUMMARY:Free Energy Assessments Sponsored by Liberty
DESCRIPTION:Celebrate Earth Day with a free energy assessment of your business facility from a Liberty-approved energy expert.\n\n\n\nWhat to expect:\n\n	Liberty-approved energy experts will assess your facility and provide recommendations to lower energy usage\n	They will talk to you about available incentives and financing options to implement the solutions\n\nBenefits:\n\n\n	Reduce energy use and your utility bill\n	Improve the safety and comfort of your customers and employees\n	Help you reach your sustainability goals\n\n\n\nFor a limited time\, Liberty's energy efficiency program will cover up to 65% of the cost on select efficiency solutions. This program is open to Liberty's business and municipal customers.\n\n\n\nSign up for your assessment by contacting us at 603-637-4346 or NHSaves@FranklinEnergy.com
X-ALT-DESC;FMTTYPE=text/html:<strong>Celebrate Earth Day with a free energy assessment of your business facility from a Liberty-approved energy expert.</strong><br />\n<br />\n<strong>What to expect:</strong>\n<ul>\n	<li>Liberty-approved energy experts will assess your facility and provide recommendations to lower energy usage</li>\n	<li>They will talk to you about available incentives and financing options to implement the solutions</li>\n</ul>\n<strong>Benefits:</strong>\n\n<ul>\n	<li>Reduce energy use and your utility bill</li>\n	<li>Improve the safety and comfort of your customers and employees</li>\n	<li>Help you reach your sustainability goals</li>\n</ul>\n<br />\nFor a limited time\, Liberty&#39\;s energy efficiency program will cover up to 65% of the cost on select efficiency solutions. This program is open to Liberty&#39\;s business and municipal customers.<br />\n<br />\n<strong>Sign up for your assessment by contacting us at 603-637-4346 or NHSaves@FranklinEnergy.com</strong>
LOCATION:Your business location
UID:e.3068.38317
SEQUENCE:3
DTSTAMP:20260420T002339Z
URL:https://visittheuppervalley.uppervalleybusinessalliance.com/events/details/free-energy-assessments-sponsored-by-liberty-38317
END:VEVENT

END:VCALENDAR
