BEGIN:VCALENDAR
VERSION:2.0
PRODID:-//ChamberMaster//Event Calendar 2.0//EN
METHOD:PUBLISH
X-PUBLISHED-TTL:P3D
REFRESH-INTERVAL:P3D
CALSCALE:GREGORIAN
BEGIN:VEVENT
DTSTART:20260426T130000Z
DTEND:20260426T190000Z
X-MICROSOFT-CDO-ALLDAYEVENT:FALSE
SUMMARY:Five Colleges Book Sale half-price day
DESCRIPTION:The Five Colleges Book Sale   which features more than 40\,000 books\, in addition to CDs\, DVDs\, BluRays and puzzles   will take place at Lebanon High School (195 Hanover Street) from April 24-26. All items will be half off on Sunday. All proceeds from the sale go toward scholarships for local students.
X-ALT-DESC;FMTTYPE=text/html:The Five Colleges Book Sale &mdash\; which features more than 40\,000 books\, in addition to CDs\, DVDs\, BluRays and puzzles &mdash\; will take place at Lebanon High School (195 Hanover Street) from April 24-26. All items will be half off on Sunday. All proceeds from the sale go toward scholarships for local students.
LOCATION:Lebanon High School (195 Hanover Street)
UID:e.3068.38699
SEQUENCE:3
DTSTAMP:20260419T223238Z
URL:https://visittheuppervalley.uppervalleybusinessalliance.com/events/details/five-colleges-book-sale-half-price-day-38699
END:VEVENT

END:VCALENDAR
